BEGIN:VCALENDAR
VERSION:2.0
PRODID:-//ChamberMaster//Event Calendar 2.0//EN
METHOD:PUBLISH
X-PUBLISHED-TTL:P3D
REFRESH-INTERVAL:P3D
CALSCALE:GREGORIAN
BEGIN:VEVENT
DTSTART:20130308T003000Z
DTEND:20130308T011500Z
X-MICROSOFT-CDO-ALLDAYEVENT:FALSE
SUMMARY:FREE! CHARACTER COUNTS!: Citizenship
DESCRIPTION:Ages 3 and Older (Parent/Child)\n\n	Join us as we introduce Citizenship and Kupa the Bear as the Sixth Animal Pillar as CHARACTER COUNTS!  This is a FREE character education class to help children develop tools and strategies to make moral choices of which they can be proud.  Good citizens are people who: Share\, help their community\, follow rules  and laws\, respect authority and take care of their environment.  Parents and children will be actively involved.
X-ALT-DESC;FMTTYPE=text/html:<p>\n	Ages 3 and Older (Parent/Child)<br />\n	Join us as we introduce Citizenship and Kupa the Bear as the Sixth Animal Pillar as CHARACTER COUNTS!&nbsp\; This is a FREE character education class to help children develop tools and strategies to make moral choices of which they can be proud.&nbsp\; Good citizens are people who: Share\, help their community\, follow rules&nbsp\; and laws\, respect authority and take care of their environment.&nbsp\; Parents and children will be actively involved.&nbsp\;</p>\n
LOCATION:Wagner Community Center Multipurpose Room B
UID:e.333.5109
SEQUENCE:3
DTSTAMP:20260424T084757Z
URL:https://chambermaster.elmhurstchamber.org/events/details/free-character-counts-citizenship-03-07-2013-5109
END:VEVENT

END:VCALENDAR
