BEGIN:VCALENDAR
VERSION:2.0
PRODID:-//ChamberMaster//Event Calendar 2.0//EN
METHOD:PUBLISH
X-PUBLISHED-TTL:P3D
REFRESH-INTERVAL:P3D
CALSCALE:GREGORIAN
BEGIN:VEVENT
DTSTART:20130717T000000Z
DTEND:20130717T020000Z
X-MICROSOFT-CDO-ALLDAYEVENT:FALSE
SUMMARY:FREE! Concerts
DESCRIPTION:Bring a blanket and a picnic basket and enjoy an evening of music in the park.  Sponsored by Community Bank of Elmhurst.\n\n	Location: Wilder Park\n\n	Elmhurst Summer Band: Tuesday\, July 16 at 7 p.m.\n\n	Elmhurst Summer Jazz Band: Tuesday\, July 23 at 7 p.m.
X-ALT-DESC;FMTTYPE=text/html:<p class="MsoNormal" style="margin: 0in 0in 0pt 0.1in\;">\n	<font face="Calibri"><font color="#000000" size="3">Bring a blanket and a picnic basket and enjoy an evening of music in the park.<span style="mso-spacerun: yes\;">&nbsp\; </span>Sponsored by Community Bank of Elmhurst.</font></font></p>\n<p class="MsoNormal" style="margin: 0in 0in 0pt 0.1in\;">\n	<font color="#000000" face="Calibri" size="3">Location: Wilder Park</font></p>\n<p class="MsoNormal" style="margin: 0in 0in 0pt 0.1in\;">\n	<font color="#000000" face="Calibri" size="3">Elmhurst Summer Band: Tuesday\, July 16 at 7 p.m.</font></p>\n<p class="MsoNormal" style="margin: 0in 0in 0pt 0.1in\;">\n	<font size="3"><font color="#000000"><font face="Calibri">Elmhurst Summer Jazz Band: Tuesday\, July 23 at 7 p.m.<span style="mso-spacerun: yes\;">&nbsp\;&nbsp\; </span></font></font></font></p>\n
LOCATION:Wilder Park
UID:e.333.5297
SEQUENCE:3
DTSTAMP:20260422T151530Z
URL:https://chambermaster.elmhurstchamber.org/events/details/free-concerts-07-16-2013-5297
END:VEVENT

END:VCALENDAR
