BEGIN:VCALENDAR
VERSION:2.0
PRODID:-//ChamberMaster//Event Calendar 2.0//EN
METHOD:PUBLISH
X-PUBLISHED-TTL:P3D
REFRESH-INTERVAL:P3D
CALSCALE:GREGORIAN
BEGIN:VEVENT
DTSTART:20120922T140000Z
DTEND:20120922T170000Z
X-MICROSOFT-CDO-ALLDAYEVENT:FALSE
SUMMARY:Free Electronics Recycling at First Congregational UCC
DESCRIPTION:A free electronics recycling event will be held in the parking lot at First Congregational United Church of Christ at 235 South Kenilworth in Elmhurst.  Items accepted will include computers\, monitors\, fax machines\, microwaves\, printers\, radios\, rechargeable batteries\, small appliances (coffee makers\, curling irons\, hair dryers\, toasters\, etc.) toner cartridges\, tv's and dvd's\, vcr's\, vacuum cleaners\, pda's\, and cell phones. \n\n\n\nNot accepted will be air conditioners\, dehumidifiers\, refrigerators\, and smoke detectors.
X-ALT-DESC;FMTTYPE=text/html:A free electronics recycling event will be held in the parking lot at First Congregational United Church of Christ at 235 South Kenilworth in Elmhurst.&nbsp\; Items accepted will include computers\, monitors\, fax machines\, microwaves\, printers\, radios\, rechargeable batteries\, small appliances (coffee makers\, curling irons\, hair dryers\, toasters\, etc.) toner cartridges\, tv&#39\;s and dvd&#39\;s\, vcr&#39\;s\, vacuum cleaners\, pda&#39\;s\, and cell phones.&nbsp\;<br />\n<br />\nNot accepted will be air conditioners\, dehumidifiers\, refrigerators\, and smoke detectors.&nbsp\; 
LOCATION:Parking lot First Congregational United Church of Christ 235 South Kenilworth Elmhurst\, IL 60126
UID:e.333.4900
SEQUENCE:3
DTSTAMP:20260424T175659Z
URL:https://chambermaster.elmhurstchamber.org/events/details/free-electronics-recycling-at-first-congregational-ucc-09-22-2012-4900
END:VEVENT

END:VCALENDAR
