BEGIN:VCALENDAR
VERSION:2.0
PRODID:-//ChamberMaster//Event Calendar 2.0//EN
METHOD:PUBLISH
X-PUBLISHED-TTL:P3D
REFRESH-INTERVAL:P3D
CALSCALE:GREGORIAN
BEGIN:VEVENT
DTSTART;VALUE=DATE:20110822
DTEND;VALUE=DATE:20110827
TRANSP:TRANSPARENT
X-MICROSOFT-CDO-ALLDAYEVENT:TRUE
SUMMARY:FREE Electronics Recycling Event
DESCRIPTION:FREE Electronics Recycling Event sponsored by DuPage County Board Environmental Committee and Creative Recycling Services.\n\n\n\nFree pick-up:  Businesses woth 3- or more large electronic pieces--call 877-57-GO-CRS or 877-574-6277 to schedule pick-ups by Friday\, August 19 at 3pm.\n\n\n\nFree Drop off: Businesses with less than 30 large electronics pieces--drop off at 278 Windy Point Drive\, Glendale Heights\, 60139 anytime Monday to Friday\, 10am-3pm\n\n\n\n*Minimal charge of $2 for all CRT TV's\, Damaged LCDs and CRT monitors.  All other recycling & transportation services are free ONLY DURING RECYCLING EVENT.\n\n\n\nA Certificate of Recycling will be provided upon request.
X-ALT-DESC;FMTTYPE=text/html:FREE Electronics Recycling Event sponsored by DuPage County Board Environmental Committee and Creative Recycling Services.<br />\n<br />\nFree pick-up:&nbsp\; Businesses woth 3- or more large electronic pieces--call 877-57-GO-CRS or 877-574-6277 to schedule pick-ups by Friday\, August 19 at 3pm.<br />\n<br />\nFree Drop off: Businesses with less than 30 large electronics pieces--drop off at 278 Windy Point Drive\, Glendale Heights\, 60139 anytime Monday to Friday\, 10am-3pm<br />\n<br />\n*Minimal charge of $2 for all CRT TV&#39\;s\, Damaged LCDs and CRT monitors.&nbsp\; All other recycling &amp\; transportation services are free ONLY DURING RECYCLING EVENT.<br />\n<br />\nA Certificate of Recycling will be provided upon request.
LOCATION:278 Windy Point Drive Glendale Heights\, IL 60139
UID:e.333.4261
SEQUENCE:3
DTSTAMP:20260425T144841Z
URL:https://chambermaster.elmhurstchamber.org/events/details/free-electronics-recycling-event-08-22-2011-4261
END:VEVENT

END:VCALENDAR
