BEGIN:VCALENDAR
VERSION:2.0
PRODID:-//ChamberMaster//Event Calendar 2.0//EN
METHOD:PUBLISH
X-PUBLISHED-TTL:P3D
REFRESH-INTERVAL:P3D
CALSCALE:GREGORIAN
BEGIN:VEVENT
DTSTART:20130928T140000Z
DTEND:20130928T170000Z
X-MICROSOFT-CDO-ALLDAYEVENT:FALSE
SUMMARY:Free Electronics Recycling Event
DESCRIPTION:Free Electronics Recycling Event First Congregational United Church of Christ 235 South Kenilworth\, Elmhurst\, IL 60126 Saturday\, September 28th from 9:00 to 12:00 Among the items accepted are: computers\, monitors\, laptops\, mainframes\, hard drives\, docking stations\, servers\, printers\, fax and copy machines\, scanners\, televisions\, stereos\, CD players\, radios\, tape players\, VCR's\, microwaves\, small household appliances such as curling irons\, toasters\, blenders\, and vacuum cleaners with the dust bags removed\, telephones\, cell phones\, household and rechargeable batteries\, power and network cables\, and toner/ink cartridges. Unacceptable items include those that contain radioactive material\, mercury and Freon such as smoke alarms\, thermostats and air conditioners. Car batteries will also not be accepted. For more information or to arrange for early drop off\, please call 630-832-2580.
X-ALT-DESC;FMTTYPE=text/html:Free Electronics Recycling Event First Congregational United Church of Christ 235 South Kenilworth\, Elmhurst\, IL 60126 Saturday\, September 28th from 9:00 to 12:00 Among the items accepted are: computers\, monitors\, laptops\, mainframes\, hard drives\, docking stations\, servers\, printers\, fax and copy machines\, scanners\, televisions\, stereos\, CD players\, radios\, tape players\, VCR&#39\;s\, microwaves\, small household appliances such as curling irons\, toasters\, blenders\, and vacuum cleaners with the dust bags removed\, telephones\, cell phones\, household and rechargeable batteries\, power and network cables\, and toner/ink cartridges. Unacceptable items include those that contain radioactive material\, mercury and Freon such as smoke alarms\, thermostats and air conditioners. Car batteries will also not be accepted. For more information or to arrange for early drop off\, please call 630-832-2580. 
LOCATION:235 South Kenilworth\, Elmhurst IL 60126
UID:e.333.5588
SEQUENCE:3
DTSTAMP:20260422T112017Z
URL:https://chambermaster.elmhurstchamber.org/events/details/free-electronics-recycling-event-09-28-2013-5588
END:VEVENT

END:VCALENDAR
