BEGIN:VCALENDAR
VERSION:2.0
PRODID:-//ChamberMaster//Event Calendar 2.0//EN
METHOD:PUBLISH
X-PUBLISHED-TTL:P3D
REFRESH-INTERVAL:P3D
CALSCALE:GREGORIAN
BEGIN:VEVENT
DTSTART:20130803T150000Z
DTEND:20130803T200000Z
X-MICROSOFT-CDO-ALLDAYEVENT:FALSE
SUMMARY:FREE! Green Fest
DESCRIPTION:All Ages\, join us for a great day in Wilder Park!   Learn how to reduce your impact on the environment and contribute to a more sustainable community.  Enjoy fun and educational activities for adults and kids\, learn about eco-friendly products and services\, enjoy speakers and workshops on environmentally-friendly practices and outdoor education.  There will be a recycling drop-off event\, awesome kids' activities\, workshops on rain water management and sustainable landscaping and a walk through of a "green" home owned by Elmhurst College.  Vendor booths and sponsorship packages are still available.  For details and information on GreenFest\, check out http://www.elmhurstgreenfest.org or call (630) 993-8980.
X-ALT-DESC;FMTTYPE=text/html:<p class="MsoNormal" style="margin: 0in 0in 0pt 0.1in\;">\n	<font color="#000000" face="Calibri" size="3">All Ages\, j</font><font color="#000000" face="Calibri" size="3">oin us for a great day in Wilder Park!&nbsp\;&nbsp\; Learn how to reduce your impact on the environment and contribute to a more sustainable community.&nbsp\; Enjoy fun and educational activities for adults and kids\, learn about eco-friendly products and services\, enjoy speakers and workshops on environmentally-friendly practices and outdoor education.&nbsp\; There will be a recycling drop-off event\, awesome kids&rsquo\; activities\, workshops on rain water management and sustainable landscaping and a walk through of a &ldquo\;green&rdquo\; home owned by Elmhurst College.&nbsp\; Vendor booths and sponsorship packages are still available.&nbsp\; For details and information on GreenFest\, check out </font><a href="http://www.elmhurstgreenfest.org/"><font color="#0000ff" face="Calibri" size="3">http://www.elmhurstgreenfest.org</font></a><font color="#000000" face="Calibri" size="3"> or call (630) 993-8980.</font></p>\n
LOCATION:Wilder Park Elmhurst\, IL
UID:e.333.5564
SEQUENCE:3
DTSTAMP:20260422T145857Z
URL:https://chambermaster.elmhurstchamber.org/events/details/free-green-fest-08-03-2013-5564
END:VEVENT

END:VCALENDAR
