BEGIN:VCALENDAR
VERSION:2.0
PRODID:-//ChamberMaster//Event Calendar 2.0//EN
METHOD:PUBLISH
X-PUBLISHED-TTL:P3D
REFRESH-INTERVAL:P3D
CALSCALE:GREGORIAN
BEGIN:VEVENT
DTSTART:20130803T150000Z
DTEND:20130803T200000Z
X-MICROSOFT-CDO-ALLDAYEVENT:FALSE
SUMMARY:FREE! GreenFest
DESCRIPTION:All ages\n\n	Join us for a great day at Wilder Park!  Learn how to reduce your impact on the environment and contribute to a more sustainable community.  Enjoy fun and educational activities for adults and kids\, learn about eco-friendly products and services\, enjoy speakers and workshops on environmentally-friendly practices and outdoor education\, and drop off your recycling!
X-ALT-DESC;FMTTYPE=text/html:<p class="MsoNormal" style="margin: 0in 0in 0pt 0.1in\;">\n	<font color="#000000" face="Calibri" size="3">All ages</font></p>\n<p class="MsoNormal" style="margin: 0in 0in 0pt 0.1in\;">\n	<font color="#000000" face="Calibri" size="3">Join us for a great day at Wilder Park!<span style="mso-spacerun: yes\;">&nbsp\; </span>Learn how to reduce your impact on the environment and contribute to a more sustainable community.<span style="mso-spacerun: yes\;">&nbsp\; </span>Enjoy fun and educational activities for adults and kids\, learn about eco-friendly products and services\, enjoy speakers and workshops on environmentally-friendly practices and outdoor education\, and drop off your recycling!</font></p>\n
LOCATION:Wilder Park
UID:e.333.5300
SEQUENCE:3
DTSTAMP:20260422T133340Z
URL:https://chambermaster.elmhurstchamber.org/events/details/free-greenfest-08-03-2013-5300
END:VEVENT

END:VCALENDAR
