BEGIN:VCALENDAR
VERSION:2.0
PRODID:-//ChamberMaster//Event Calendar 2.0//EN
METHOD:PUBLISH
X-PUBLISHED-TTL:P3D
REFRESH-INTERVAL:P3D
CALSCALE:GREGORIAN
BEGIN:VEVENT
DTSTART:20130921T190000Z
DTEND:20130921T220000Z
X-MICROSOFT-CDO-ALLDAYEVENT:FALSE
SUMMARY:FREE! National Gymnastics Day
DESCRIPTION:Ages  2-12\n\n	Celebrate the wonderful world of gymnastics as we turn the world upside down on National Gymnastics Day.  This fun filled open house includes physical fitness activities and challenges using the gymnastics equipment and facilities at Wagner Community Center.  This is a drop-in activity\; a parent/guardian must complete and sign a waiver and accompany their children during the event.  Call (630) 993-8900 for more information.
X-ALT-DESC;FMTTYPE=text/html:<p class="MsoNormal" style="margin: 0in 0in 0pt 0.1in\;">\n	<font face="Calibri"><font color="#000000" size="3">Ages<span style="mso-spacerun: yes\;">&nbsp\; </span>2-12</font></font></p>\n<p class="MsoNormal" style="margin: 0in 0in 0pt 0.1in\;">\n	<font size="3"><font color="#000000"><font face="Calibri">Celebrate the wonderful world of gymnastics as we turn the world upside down on National Gymnastics Day.<span style="mso-spacerun: yes\;">&nbsp\; </span>This fun filled open house includes physical fitness activities and challenges using the gymnastics equipment and facilities at Wagner Community Center.<span style="mso-spacerun: yes\;">&nbsp\; </span>This is a drop-in activity\; a parent/guardian must complete and sign a waiver and accompany their children during the event.<span style="mso-spacerun: yes\;">&nbsp\; </span>Call (630) 993-8900 for more information.<span style="mso-spacerun: yes\;">&nbsp\; </span></font></font></font></p>\n
LOCATION:Wagner Community Center Elmhurst\, IL 60126
UID:e.333.5568
SEQUENCE:3
DTSTAMP:20260422T112439Z
URL:https://chambermaster.elmhurstchamber.org/events/details/free-national-gymnastics-day-09-21-2013-5568
END:VEVENT

END:VCALENDAR
