BEGIN:VCALENDAR
VERSION:2.0
PRODID:-//ChamberMaster//Event Calendar 2.0//EN
METHOD:PUBLISH
X-PUBLISHED-TTL:P3D
REFRESH-INTERVAL:P3D
CALSCALE:GREGORIAN
BEGIN:VEVENT
DTSTART:20130401T160000Z
DTEND:20130401T180000Z
X-MICROSOFT-CDO-ALLDAYEVENT:FALSE
SUMMARY:Free Pain Consultations
DESCRIPTION:Ages 55 and older.\n\n	A.R.C. Physical Therapy will be at the Abbey to provide free consultations for any painful condition.  A.R.C. Physical Therapy employs the only healthcare practitioners in the Chicagoland area that are certified in a safe\, gentle\, and amazingly effective Osteopathic treatment technique that eliminates the muscle tension which is present in over 80% of all people with neck\, low back\, and shoulder stiffness or pain.  In most cases\, eliminating this muscle tension is key to eliminating the need for repeated manipulation or continuous treatment of any kind.  A.R.C. Physical Therapy will offer free consultations that include a demonstration of this treatment technique\, called Strain/Counterstrain and of any other painful condition you might have.  Go to www.jiscs.com for more information. \n\n	Call The Abbey at (630) 993-8193 to schedule an appointment.
X-ALT-DESC;FMTTYPE=text/html:<p class="MsoNormal" style="margin: 0in 0in 0pt 0.1in\;">\n	<span style="font-size: 10pt\;"><font color="#000000"><font face="Calibri">Ages 55 and older.</font></font></span></p>\n<p class="MsoNormal" style="margin: 0in 0in 0pt 0.1in\;">\n	<span style="font-size: 10pt\;"><font color="#000000" face="Calibri">A.R.C. Physical Therapy will be at the Abbey to provide free consultations for any painful condition.<span style="mso-spacerun: yes\;">&nbsp\; </span>A.R.C. Physical Therapy employs the only healthcare practitioners in the Chicagoland area that are certified in a safe\, gentle\, and amazingly effective Osteopathic treatment technique that eliminates the muscle tension which is present in over 80% of all people with neck\, low back\, and shoulder stiffness or pain.<span style="mso-spacerun: yes\;">&nbsp\; </span>In most cases\, eliminating this muscle tension is key to eliminating the need for repeated manipulation or continuous treatment of any kind.<span style="mso-spacerun: yes\;">&nbsp\; </span>A.R.C. Physical Therapy will offer free consultations that include a demonstration of this treatment technique\, called Strain/Counterstrain</font></span><span style="font-size: 10pt\;"><font color="#000000"><font face="Calibri"> and of any other painful condition you might have.<span style="mso-spacerun: yes\;">&nbsp\; Go to www.jiscs.com for more information.&nbsp\;<br />\n	Call</span> The Abbey at (630) 993-8193 to schedule an appointment.<span style="mso-spacerun: yes\;">&nbsp\; </span></font></font></span></p>\n
LOCATION:The Abbey
UID:e.333.5214
SEQUENCE:3
DTSTAMP:20260422T194226Z
URL:https://chambermaster.elmhurstchamber.org/events/details/free-pain-consultations-04-01-2013-5214
END:VEVENT

END:VCALENDAR
