BEGIN:VCALENDAR
VERSION:2.0
PRODID:-//ChamberMaster//Event Calendar 2.0//EN
METHOD:PUBLISH
X-PUBLISHED-TTL:P3D
REFRESH-INTERVAL:P3D
CALSCALE:GREGORIAN
BEGIN:VEVENT
DTSTART:20130824T220000Z
DTEND:20130825T030000Z
X-MICROSOFT-CDO-ALLDAYEVENT:FALSE
SUMMARY:FREE! Park Palooza
DESCRIPTION:All ages \n\n	Bring your blankets and lawn chairs and enjoy the music of Sons of the Never Wrong (5 p.m.) and the Matt Stedman Band (7:30 p.m.) and spend the evening under the stars with music\, friends\, and good times.  All amenities at The Hub will be open.  Family fun\, bbq food\, a beer garden and free concert.  End summer with a night of entertainment!  Concert sponsored by Community Bank of Elmhurst.  Beer garden sponsored by the People for Elmhurst Parks Foundation.
X-ALT-DESC;FMTTYPE=text/html:<p class="MsoNormal" style="margin: 0in 0in 0pt 0.1in\;">\n	<font color="#000000" face="Calibri" size="3">All ages </font></p>\n<p class="MsoNormal" style="margin: 0in 0in 0pt 0.1in\;">\n	<font size="3"><font color="#000000"><font face="Calibri">Bring your blankets and lawn chairs and enjoy the music of Sons of the Never Wrong (5 p.m.) and the Matt Stedman Band (7:30 p.m.) and spend the evening under the stars with music\, friends\, and good times.<span style="mso-spacerun: yes\;">&nbsp\; </span>All amenities at The Hub will be open.<span style="mso-spacerun: yes\;">&nbsp\; </span>Family fun\, bbq food\, a beer garden and free concert.<span style="mso-spacerun: yes\;">&nbsp\; </span>End summer with a night of entertainment!<span style="mso-spacerun: yes\;">&nbsp\; </span>Concert sponsored by Community Bank of Elmhurst.<span style="mso-spacerun: yes\;">&nbsp\; </span>Beer garden sponsored by the People for Elmhurst Parks Foundation.<span style="mso-spacerun: yes\;">&nbsp\; </span></font></font></font></p>\n
LOCATION:Berens Park
UID:e.333.5302
SEQUENCE:3
DTSTAMP:20260422T133406Z
URL:https://chambermaster.elmhurstchamber.org/events/details/free-park-palooza-08-24-2013-5302
END:VEVENT

END:VCALENDAR
