BEGIN:VCALENDAR
VERSION:2.0
PRODID:-//ChamberMaster//Event Calendar 2.0//EN
METHOD:PUBLISH
X-PUBLISHED-TTL:P3D
REFRESH-INTERVAL:P3D
CALSCALE:GREGORIAN
BEGIN:VEVENT
DTSTART:20121030T183000Z
DTEND:20121030T200000Z
X-MICROSOFT-CDO-ALLDAYEVENT:FALSE
SUMMARY:FREE Seminar on Shoulder Pain and the Latest Treatment Options
DESCRIPTION:You are invited to attend a\n\n	FREE Seminar on Shoulder Pain and the Latest Treatment Options \n\n	Midwest Orthopaedics at Rush (sports medicine physicians) \n\n	Presented by Gregory Nicholson\, MD and Brian Forsythe\, MD\n\n\n\n\n\n\nWhy Live with Chronic Shoulder Pain?\n\n\n\nCan you reach as far as you want to? Or comfortably comb your hair\, scratch your back\, use a vacuum\, or sleep on your side? If you can't do the simple things you once did\, you may be suffering from a shoulder condition. There are reliable\, effective solutions. Join us to learn how you can address chronic pain and regain motion.\n\n\n\n\n\nSolutions for Chronic Shoulder Pain - Your Questions Answered\n\n\n\nPresented by Gregory Nicholson\, MD and Brian Forsythe\, MD\n\nMidwest Orthopaedics at Rush\n\n\n\n\n\nTuesday\, October 30\, 2012\n\n2:00-3:00 p.m. (Check-in begins at 1:30 p.m.)\n\n\n\nCentral DuPage Hospital - Conference Room 1\, 2 & 3 on the main floor  \n\n25 North Winfield Road  \n\nWinfield\, IL 60490\n\n\n\n\n\nYour spouse or guest is welcome to attend. Light refreshments will be served.\n\nSpace is limited\, call (877) 585-0125 to register today.\n\n\n\n\n\nwww.liftmyarm.com
X-ALT-DESC;FMTTYPE=text/html:<p style="text-align: center">\n	<span style="font-size: 24px">You are invited to attend a<br />\n	<strong>FREE Seminar on Shoulder Pain and the Latest Treatment Options&nbsp\;</strong></span></p>\n<p style="text-align: center">\n	<span style="font-size: 24px"><strong><span style="font-size: 22px"><span style="color: #0000ff">Midwest Orthopaedics at Rush (sports medicine physicians) </span></span></strong></span></p>\n<p style="text-align: center">\n	<span style="font-size: 22px">Presented by Gregory Nicholson\, MD and Brian Forsythe\, MD</span></p>\n<br />\n<br />\n<br />\n<span style="font-size: 18px">Why Live with Chronic Shoulder Pain?<br />\n<br />\nCan you reach as far as you want to? Or comfortably comb your hair\, scratch your back\, use a vacuum\, or sleep on your side? If you can&rsquo\;t do the simple things you once did\, you may be suffering from a shoulder condition. There are reliable\, effective solutions. Join us to learn how you can address chronic pain and regain motion.<br />\n<br />\n<br />\nSolutions for Chronic Shoulder Pain - Your Questions Answered<br />\n<br />\n<em><strong>Presented by Gregory Nicholson\, MD and Brian Forsythe\, MD</strong></em><br />\n<em>Midwest Orthopaedics at Rush</em><br />\n<br />\n<br />\n<span style="color: #0000ff"><strong>Tuesday\, October 30\, 2012</strong></span><br />\n2:00-3:00 p.m. (Check-in begins at 1:30 p.m.)<br />\n<br />\nCentral DuPage Hospital - Conference Room 1\, 2 &amp\; 3 on the main floor &nbsp\;<br />\n25 North Winfield Road &nbsp\;<br />\nWinfield\, IL 60490<br />\n<br />\n<br />\nYour spouse or guest is welcome to attend. Light refreshments will be served.<br />\n<strong>Space is limited\, call (877) 585-0125 to register today.</strong></span><br />\n<br />\n<br />\n<span style="font-size: 18px">www.liftmyarm.com&nbsp\;</span>
LOCATION:Central DuPage Hospital - Conference Room 1\, 2 & 3 on the main floor 25 North Winfield Road Winfield\, IL 60490
UID:e.333.5094
SEQUENCE:3
DTSTAMP:20260424T162847Z
URL:https://chambermaster.elmhurstchamber.org/events/details/free-seminar-on-shoulder-pain-and-the-latest-treatment-options-10-30-2012-5094
END:VEVENT

END:VCALENDAR
