BEGIN:VCALENDAR
VERSION:2.0
PRODID:-//ChamberMaster//Event Calendar 2.0//EN
METHOD:PUBLISH
X-PUBLISHED-TTL:P3D
REFRESH-INTERVAL:P3D
CALSCALE:GREGORIAN
BEGIN:VEVENT
DTSTART:20130821T233000Z
DTEND:20130822T003000Z
X-MICROSOFT-CDO-ALLDAYEVENT:FALSE
SUMMARY:FREE! Wednesday Night Sunset Walks
DESCRIPTION:All Ages:  We will be taking evening walks exploring all the different eco systems at Eldridge Park.  The walk will be lead by our environmental education staff.  Come join us for a relaxing evening and learn about the most diverse parks in Elmhurst.  The Eldridge Nature center will be open in case of poor weather\, and staff will be on hand to lead indoor activities.\n\n	 \n  Wednesdays   August 21-September 18
X-ALT-DESC;FMTTYPE=text/html:<p class="MsoNormal" style="margin: 0in 0in 0pt 0.1in\;">\n	<font color="#000000" face="Calibri" size="3">All Ages: &nbsp\;</font><span style="color: rgb(0\, 0\, 0)\; font-size: medium\; font-family: Calibri\;">We will be taking evening walks exploring all the different eco systems at Eldridge Park.</span><span style="color: rgb(0\, 0\, 0)\; font-size: medium\; font-family: Calibri\;">&nbsp\; </span><span style="color: rgb(0\, 0\, 0)\; font-size: medium\; font-family: Calibri\;">The walk will be lead by our environmental education staff.</span><span style="color: rgb(0\, 0\, 0)\; font-size: medium\; font-family: Calibri\;">&nbsp\; </span><span style="color: rgb(0\, 0\, 0)\; font-size: medium\; font-family: Calibri\;">Come join us for a relaxing evening and learn about the most diverse parks in Elmhurst.</span><span style="color: rgb(0\, 0\, 0)\; font-size: medium\; font-family: Calibri\;">&nbsp\; </span><span style="color: rgb(0\, 0\, 0)\; font-size: medium\; font-family: Calibri\;">The Eldridge Nature center will be open in case of poor weather\, and staff will be on hand to lead indoor activities.</span></p>\n<p class="MsoNormal" style="margin: 0in 0in 0pt 0.1in\;">\n	<o:p><font color="#000000" face="Calibri" size="3">&nbsp\;</font></o:p></p>\n<font color="#000000" face="Calibri" size="3">&nbsp\; Wednesdays<span style="mso-spacerun: yes\;">&nbsp\;&nbsp\; </span>August 21-September 18<span style="mso-spacerun: yes\;">&nbsp\;&nbsp\;&nbsp\; </span></font>
LOCATION:Eldridge Nature Center Elmhurst\, IL
UID:e.333.5575
SEQUENCE:3
DTSTAMP:20260422T133623Z
URL:https://chambermaster.elmhurstchamber.org/events/details/free-wednesday-night-sunset-walks-08-21-2013-5575
END:VEVENT

END:VCALENDAR
