BEGIN:VCALENDAR
VERSION:2.0
PRODID:-//ChamberMaster//Event Calendar 2.0//EN
METHOD:PUBLISH
X-PUBLISHED-TTL:P3D
REFRESH-INTERVAL:P3D
CALSCALE:GREGORIAN
BEGIN:VEVENT
DTSTART:20110712T231500Z
DTEND:20110713T000000Z
X-MICROSOFT-CDO-ALLDAYEVENT:FALSE
SUMMARY:Free Weight Loss Seminar!
DESCRIPTION:On Tuesday\, July 12\, 2011\, HealthSource Chiropractic  and Progressive Rehab  will host a free weight loss seminar for all those who are looking to lose weight and adopt a healthier lifestyle. The office is located at 565 N York Rd. Dr. Powell\, owner of HealthSource Chiropractic  of Elmhurst\, is a proud part of the world's largest and fastest growing chiropractic franchise\, with over 240 clinics nationwide.\n\n\n\nDr. Powell lost over fifty pounds and has successfully kept it off. He uses various methods to stay healthy and fit\, and he is excited to share some of the secrets of weight loss with the community. He plans to host a free weight loss seminar two Tuesdays of each month. Come and get a head start on a healthy lifestyle!
X-ALT-DESC;FMTTYPE=text/html:On Tuesday\, July 12\, 2011\, HealthSource Chiropractic&trade\; and Progressive Rehab&trade\; will host a free weight loss seminar for all those who are looking to lose weight and adopt a healthier lifestyle. The office is located at 565 N York Rd. Dr. Powell\, owner of HealthSource Chiropractic&trade\; of Elmhurst\, is a proud part of the world&rsquo\;s largest and fastest growing chiropractic franchise\, with over 240 clinics nationwide.<br />\n<br />\nDr. Powell lost over fifty pounds and has successfully kept it off. He uses various methods to stay healthy and fit\, and he is excited to share some of the secrets of weight loss with the community. He plans to host a free weight loss seminar two Tuesdays of each month. Come and get a head start on a healthy lifestyle!<br />\n<br />\n
LOCATION:HealthSource of Elmhurst- 565 N York Rd\, Elmhurst\, IL 60126
UID:e.333.4248
SEQUENCE:3
DTSTAMP:20260425T161529Z
URL:https://chambermaster.elmhurstchamber.org/events/details/free-weight-loss-seminar-07-12-2011-4248
END:VEVENT

END:VCALENDAR
