BEGIN:VCALENDAR
VERSION:2.0
PRODID:-//ChamberMaster//Event Calendar 2.0//EN
METHOD:PUBLISH
X-PUBLISHED-TTL:P3D
REFRESH-INTERVAL:P3D
CALSCALE:GREGORIAN
BEGIN:VEVENT
DTSTART:20130313T223000Z
DTEND:20130314T010000Z
X-MICROSOFT-CDO-ALLDAYEVENT:FALSE
SUMMARY:Fundraiser & Mazda Unveiling
DESCRIPTION:Special Olympics Fundraiser & 2014 Mazda Unveiling
X-ALT-DESC;FMTTYPE=text/html:Special Olympics Fundraiser &amp\; 2014 Mazda Unveiling
LOCATION:Wilkins Mazda Showroom 750 N. York Rd. Elmhurst
UID:e.333.5236
SEQUENCE:3
DTSTAMP:20260424T084612Z
URL:https://chambermaster.elmhurstchamber.org/events/details/fundraiser-mazda-unveiling-03-13-2013-5236
END:VEVENT

END:VCALENDAR
