BEGIN:VCALENDAR
VERSION:2.0
PRODID:-//ChamberMaster//Event Calendar 2.0//EN
METHOD:PUBLISH
X-PUBLISHED-TTL:P3D
REFRESH-INTERVAL:P3D
CALSCALE:GREGORIAN
BEGIN:VEVENT
DTSTART:20130321T223000Z
DTEND:20130322T010000Z
X-MICROSOFT-CDO-ALLDAYEVENT:FALSE
SUMMARY:Fundraiser & Mazda Unveiling
DESCRIPTION:Special Olympics & 2014 Mazda6 Unveiling
X-ALT-DESC;FMTTYPE=text/html:Special Olympics &amp\; 2014 Mazda6 Unveiling
LOCATION:Wilkins Mazda Showroom 750 N. York Rd. Elmhurst
UID:e.333.5234
SEQUENCE:3
DTSTAMP:20260424T084610Z
URL:https://chambermaster.elmhurstchamber.org/events/details/fundraiser-mazda-unveiling-03-21-2013-5234
END:VEVENT

END:VCALENDAR
