BEGIN:VCALENDAR
VERSION:2.0
PRODID:-//ChamberMaster//Event Calendar 2.0//EN
METHOD:PUBLISH
X-PUBLISHED-TTL:P3D
REFRESH-INTERVAL:P3D
CALSCALE:GREGORIAN
BEGIN:VEVENT
DTSTART:20130511T120000Z
DTEND:20130511T190000Z
X-MICROSOFT-CDO-ALLDAYEVENT:FALSE
SUMMARY:Garage Sale - York High School Key Club
DESCRIPTION:York High School Key Club Garage Sale\n\nAll Proceeds go to the Elmhurst Walk-In Ministry\, an organization that gives emergency assistance to people within our community. \n\n\n\nDonations are welcome: household items\, toys\, childrens clothing and more. \n\nPlease no electronics. (if you have items to donate please drop off at Bethel Church on Friday\, May 10th from 12 noon - 6:00PM
X-ALT-DESC;FMTTYPE=text/html:York High School Key Club Garage Sale<br />\nAll Proceeds go to the Elmhurst Walk-In Ministry\, an organization that gives emergency assistance to people within our community.&nbsp\;<br />\n<br />\nDonations are welcome: household items\, toys\, childrens clothing and more.&nbsp\;<br />\nPlease no electronics. (if you have items to donate please drop off at Bethel Church on Friday\, May 10th from 12 noon - 6:00PM
LOCATION:Front Lawn of Bethel United Church of Christ 315 E. St. Charles Rd Elmhurst\, IL 60126
UID:e.333.5287
SEQUENCE:3
DTSTAMP:20260422T180908Z
URL:https://chambermaster.elmhurstchamber.org/events/details/garage-sale-york-high-school-key-club-05-11-2013-5287
END:VEVENT

END:VCALENDAR
