BEGIN:VCALENDAR
VERSION:2.0
PRODID:-//ChamberMaster//Event Calendar 2.0//EN
METHOD:PUBLISH
X-PUBLISHED-TTL:P3D
REFRESH-INTERVAL:P3D
CALSCALE:GREGORIAN
BEGIN:VEVENT
DTSTART:20110419T233000Z
DTEND:20110420T013000Z
X-MICROSOFT-CDO-ALLDAYEVENT:FALSE
SUMMARY:Get more Facebook Fans
DESCRIPTION:If you are an online retailer\, join us at http://www.meetup.com/Internet-Marketers-of-the-Chicago-Suburbs/ \n\n\n\nFind out more info and RSVP through our meet up site. We have meet ups every month covering a different Internet marketing.
X-ALT-DESC;FMTTYPE=text/html:If you are an online retailer\, join us at http://www.meetup.com/Internet-Marketers-of-the-Chicago-Suburbs/ \n<br>\n<br>Find out more info and RSVP through our meet up site. We have meet ups every month covering a different Internet marketing.
LOCATION:655 W. Grand Ave.\, Unit 140 Elmhurst\, IL 60126
UID:e.333.4152
SEQUENCE:3
DTSTAMP:20260425T204640Z
URL:https://chambermaster.elmhurstchamber.org/events/details/get-more-facebook-fans-04-19-2011-4152
END:VEVENT

END:VCALENDAR
