BEGIN:VCALENDAR
VERSION:2.0
PRODID:-//ChamberMaster//Event Calendar 2.0//EN
METHOD:PUBLISH
X-PUBLISHED-TTL:P3D
REFRESH-INTERVAL:P3D
CALSCALE:GREGORIAN
BEGIN:VEVENT
DTSTART:20101126T160000Z
DTEND:20101126T210000Z
X-MICROSOFT-CDO-ALLDAYEVENT:FALSE
SUMMARY:Gingerbread House Workshop
DESCRIPTION:Looking for something fun for the whole family to do the day after Thanksgiving? Skip the shopping\, round up the relatives\, and bring on the holiday spirit by decorating a festive Gingerbread House. One small house plus decorations and supplies will be provided\, reservations are mandatory. Two sessions: 10:00 a.m. and 1:00 p.m. Call for reservations: 630-833-1457.
X-ALT-DESC;FMTTYPE=text/html:Looking for something fun for the whole family to do the day after Thanksgiving? Skip the shopping\, round up the relatives\, and bring on the holiday spirit by decorating a festive Gingerbread House. One small house plus decorations and supplies will be provided\, reservations are mandatory. Two sessions: 10:00 a.m. and 1:00 p.m. Call for reservations: 630-833-1457. 
LOCATION:Elmhurst Historical Museum Education Center
UID:e.333.3520
SEQUENCE:3
DTSTAMP:20260426T042648Z
URL:https://chambermaster.elmhurstchamber.org/events/details/gingerbread-house-workshop-11-26-2010-3520
END:VEVENT

END:VCALENDAR
