BEGIN:VCALENDAR
VERSION:2.0
PRODID:-//ChamberMaster//Event Calendar 2.0//EN
METHOD:PUBLISH
X-PUBLISHED-TTL:P3D
REFRESH-INTERVAL:P3D
CALSCALE:GREGORIAN
BEGIN:VEVENT
DTSTART:20130629T160000Z
DTEND:20130630T010000Z
X-MICROSOFT-CDO-ALLDAYEVENT:FALSE
SUMMARY:Goalie's Goodies Grand Opening!
DESCRIPTION:Grand opening for Goalie's Goodies (116 S. York\, Elmhurst\, IL) will be on Saturday\, June 29 from 11 a.m. to 8 p.m.  Goalie's Goodies is a popcorn\, candy\, and ice cream shop.  All popcorn is made onsite with many flavors\, including caramel\, cheese\, spicy cheese and ranch.  There is both bulk and boxed candy\, including nostalgic candies. Customers will receive a large bag of kettle corn with a purchase of $10.00 or more (limit 1 per customer and valid on June 29 only).  There will be free samples of all popcorn\, raffle\, and a special appearance by Scrappy Squirrel from the Fighting Squirrels Hockey Team.  Come out and join in the fun!
X-ALT-DESC;FMTTYPE=text/html:<br />\nGrand opening for Goalie&rsquo\;s Goodies (116 S. York\, Elmhurst\, IL) will be on Saturday\, June 29 from 11 a.m. to 8 p.m.&nbsp\; Goalie&rsquo\;s Goodies is a popcorn\, candy\, and ice cream shop.&nbsp\; All popcorn is made onsite with many flavors\, including caramel\, cheese\, spicy cheese and ranch.&nbsp\; There is both bulk and boxed candy\, including nostalgic candies. Customers will receive a large bag of kettle corn with a purchase of $10.00 or more (limit 1 per customer and valid on June 29 only).&nbsp\; There will be free samples of all popcorn\, raffle\, and a special appearance by Scrappy Squirrel from the Fighting Squirrels Hockey Team.&nbsp\; Come out and join in the fun! &nbsp\; &nbsp\;<br />\n
LOCATION:Goalie's Goodies 116 S. York St. Elmhurst\, IL 60126
UID:e.333.5531
SEQUENCE:3
DTSTAMP:20260422T180751Z
URL:https://chambermaster.elmhurstchamber.org/events/details/goalie-s-goodies-grand-opening-06-29-2013-5531
END:VEVENT

END:VCALENDAR
