BEGIN:VCALENDAR
VERSION:2.0
PRODID:-//ChamberMaster//Event Calendar 2.0//EN
METHOD:PUBLISH
X-PUBLISHED-TTL:P3D
REFRESH-INTERVAL:P3D
CALSCALE:GREGORIAN
BEGIN:VEVENT
DTSTART:20120521T000000Z
DTEND:20120521T020000Z
X-MICROSOFT-CDO-ALLDAYEVENT:FALSE
SUMMARY:Golf Tak with Ross Henry and Rick Koscher The Golf Better Studio
DESCRIPTION:"Golf Talk"\n\n	Who: You and a close friend\, the person who always wins the Nassau.\n\n	\n\n	What: "Golf Talk": An evening to discuss the myths of golf.\n\n	\n\n	Why: To help you gain a new perspective on an old problem\, learning to "GolfBetter"!\n\n	\n\n	Where:  SpringHill Suites\, 410 West Lake Street Elmhurst\, IL\n\n	\n\n	When: Sunday\, May 20th 7-9PM\n\n	\n\n	How: Reserve your "FREE" seat:\n\n	              Call Rick @ 630-632-9111\n\n	      Email rick@thegolfbetterstudio.com\n\n	_______________________________\n\n	\n\n	Equipment Evaluation Day\n\n	\n\n	On Monday\, May 21st and Tuesday\, May 22nd Ross & Rick invite you to a FREE\n\n	fitting session where you can test drive the latest Henry-Griffitts innovations for your golf game.\n\n	The GolfBetter Studio\n\n	497 West Wrightwood Ave\n\n	Elmhurst\, Il 60126\n\n	www.thegolfbetterstudio.com\n\n	630.632.9111
X-ALT-DESC;FMTTYPE=text/html:<div style="text-align: center">\n	&ldquo\;Golf Talk&rdquo\;</div>\n<div style="text-align: center">\n	Who: You and a close friend\, the person who always wins the Nassau.<br />\n	<br />\n	What: &ldquo\;Golf Talk&rdquo\;: An evening to discuss the myths of golf.<br />\n	<br />\n	Why: To help you gain a new perspective on an old problem\, learning to &ldquo\;GolfBetter&rdquo\;!<br />\n	<br />\n	Where:&nbsp\; SpringHill Suites\, 410 West Lake Street Elmhurst\, IL<br />\n	<br />\n	When: Sunday\, May 20th 7-9PM<br />\n	<br />\n	How: Reserve your &ldquo\;FREE&rdquo\; seat:<br />\n	&nbsp\;&nbsp\;&nbsp\;&nbsp\;&nbsp\;&nbsp\;&nbsp\;&nbsp\;&nbsp\;&nbsp\;&nbsp\;&nbsp\;&nbsp\; Call Rick @ 630-632-9111<br />\n	&nbsp\;&nbsp\;&nbsp\;&nbsp\;&nbsp\; Email rick@thegolfbetterstudio.com<br />\n	_______________________________<br />\n	<br />\n	Equipment Evaluation Day<br />\n	<br />\n	On Monday\, May 21st and Tuesday\, May 22nd Ross &amp\; Rick invite you to a FREE<br />\n	fitting session where you can test drive the latest Henry-Griffitts innovations for your golf game.<br />\n	The GolfBetter Studio<br />\n	497 West Wrightwood Ave<br />\n	Elmhurst\, Il 60126<br />\n	www.thegolfbetterstudio.com<br />\n	630.632.9111</div>\n
LOCATION:SpringHill Suites
UID:e.333.4838
SEQUENCE:3
DTSTAMP:20260425T004219Z
URL:https://chambermaster.elmhurstchamber.org/events/details/golf-tak-with-ross-henry-and-rick-koscher-the-golf-better-studio-05-20-2012-4838
END:VEVENT

END:VCALENDAR
