BEGIN:VCALENDAR
VERSION:2.0
PRODID:-//ChamberMaster//Event Calendar 2.0//EN
METHOD:PUBLISH
X-PUBLISHED-TTL:P3D
REFRESH-INTERVAL:P3D
CALSCALE:GREGORIAN
BEGIN:VEVENT
DTSTART:20130929T170000Z
DTEND:20130929T220000Z
X-MICROSOFT-CDO-ALLDAYEVENT:FALSE
SUMMARY:Gracious Gifts Creative Kids Festival
DESCRIPTION:Gracious Gifts will hold a Creative Kids Festival on Sunday\, September 29\, from 12:00   5:00 in Wilder Park\, Elmhurst\, IL. This free event is designed to encourage kids and families to be active and creative through music\, art\, fitness\, and fun. Children who have created artwork\, crafts\, baked goods\, and more will display their items for purchase. There will also be vendor booths representing family and kid-friendly\, creative\, healthy\, and fun products or services\, as well as music\, face painting\, bouncy houses\, mimes\, food\, and more at this free fundraising event. Vendor and sponsor opportunities available.\n\n	Tracey Stewart\, Founder and Executive Director of Gracious Gifts\, said\,"This action-packed\, fun-filled event will delight the whole family as we enjoy the treasures and talents of our youth. Our Presenting Sponsor\, Kie & Kate Couture\, Elmhurst\, has given workshops to these young entrepreneurs to hone their talents. Families can come check out the booths\, have lunch\, and stay for the fun. The kids are sure to love it!" Gracious Gifts is a non-profit organization whose mission is to provide emotional\, financial\, and community support to families facing cancer treatment and recovery. Funds raised from this event will go directly towards providing financial assistance to these families in the form of helping to pay for medical bills\, travel-related costs\, meals\, cleaning\, and much more.\n\n	For more information about the Creative Kids Festival\, visit www.gracious-gifts.org. Contact: Tracey Stewart Founder & Executive Director Gracious Gifts 312-636-7554 www.gracious-gifts.org info@gracious-gifts.org ###
X-ALT-DESC;FMTTYPE=text/html:<p style="margin: 12px 0px\; padding: 0px\; font-family: Tahoma\, Arial\, Helvetica\, sans-serif\; font-size: 13px\;">\n	Gracious Gifts will hold a Creative Kids Festival on Sunday\, September 29\, from 12:00 &ndash\; 5:00 in Wilder Park\, Elmhurst\, IL. This free event is designed to encourage kids and families to be active and creative through music\, art\, fitness\, and fun. Children who have created artwork\, crafts\, baked goods\, and more will display their items for purchase. There will also be vendor booths representing family and kid-friendly\, creative\, healthy\, and fun products or services\, as well as music\, face painting\, bouncy houses\, mimes\, food\, and more at this free fundraising event. Vendor and sponsor opportunities available.</p>\n<p style="margin: 12px 0px\; padding: 0px\; font-family: Tahoma\, Arial\, Helvetica\, sans-serif\; font-size: 13px\;">\n	Tracey Stewart\, Founder and Executive Director of Gracious Gifts\, said\,&ldquo\;This action-packed\, fun-filled event will delight the whole family as we enjoy the treasures and talents of our youth. Our Presenting Sponsor\, Kie &amp\; Kate Couture\, Elmhurst\, has given workshops to these young entrepreneurs to hone their talents. Families can come check out the booths\, have lunch\, and stay for the fun. The kids are sure to love it!&rdquo\; Gracious Gifts is a non-profit organization whose mission is to provide emotional\, financial\, and community support to families facing cancer treatment and recovery. Funds raised from this event will go directly towards providing financial assistance to these families in the form of helping to pay for medical bills\, travel-related costs\, meals\, cleaning\, and much more.</p>\n<p style="margin: 12px 0px\; padding: 0px\; font-family: Tahoma\, Arial\, Helvetica\, sans-serif\; font-size: 13px\;">\n	For more information about the Creative Kids Festival\, visit&nbsp\;<a data-mce-="" href="http://www.gracious-gifts.org/" style="margin: 0px\; padding: 0px\; text-decoration: none\; color: rgb(69\, 120\, 28)\;">www.gracious-gifts.org</a>. Contact: Tracey Stewart Founder &amp\; Executive Director Gracious Gifts 312-636-7554&nbsp\;<a data-mce-="" href="http://www.gracious-gifts.org/" style="margin: 0px\; padding: 0px\; text-decoration: none\; color: rgb(69\, 120\, 28)\;">www.gracious-gifts.org</a>&nbsp\;<a data-mce-="" href="mailto:info@gracious-gifts.org" style="margin: 0px\; padding: 0px\; text-decoration: none\; color: rgb(69\, 120\, 28)\;">info@gracious-gifts.org</a>&nbsp\;###&nbsp\;</p>\n
LOCATION:Wilder Park 211 S. Prospect Ave. Elmhurst\, IL
UID:e.333.5626
SEQUENCE:3
DTSTAMP:20260422T113323Z
URL:https://chambermaster.elmhurstchamber.org/events/details/gracious-gifts-creative-kids-festival-09-29-2013-5626
END:VEVENT

END:VCALENDAR
