BEGIN:VCALENDAR
VERSION:2.0
PRODID:-//ChamberMaster//Event Calendar 2.0//EN
METHOD:PUBLISH
X-PUBLISHED-TTL:P3D
REFRESH-INTERVAL:P3D
CALSCALE:GREGORIAN
BEGIN:VEVENT
DTSTART;VALUE=DATE:20120904
DTEND;VALUE=DATE:20120905
TRANSP:TRANSPARENT
X-MICROSOFT-CDO-ALLDAYEVENT:TRUE
SUMMARY:GRAND OPENING! Midwest Orthopaedics at Rush Occupational Medicine Clinic
DESCRIPTION:New!!\n\n	Midwest Orthopaedics at Rush\n\n	Occupational Medicine Clinic\n\n	Set to Open on September 4\, 2012\n\n\n\n\n\n\nIn just a few months Midwest Orthopaedics at Rush will add occupational medicine to its already impressive list of specialties. Located in Westchester\, IL\, the new Midwest Orthopaedics at Rush Occupational Medicine Clinic will provide evaluation and treatment of healthcare needs for employers and employees. The new clinic will focus not only on the well-being of individuals within an organization\, but the Chicago-area community as a whole.\n\n\n\nDr. Richard Rodarte is board certified in Occupational Medicine. He joined Midwest Orthopaedics at Rush on July 24 as head of the new Midwest Orthopaedics at Rush Occupational Medicine Clinic. Dr. Rodarte is a native of Chicago and has many years of experience serving the Chicago working community. Dr. Rodarte's office is located at the Prairie Medical Center of Westchester\, 2450 S. Wolf Road\, Suite F.\, Westchester\, IL 60154.\n\n\n	\n		"I look forward to working with Midwest Orthopaedics at Rush and the opening of the new Midwest Orthopaedics at Rush Occupational Medicine Clinic."\n\n\n	\n\n	Visit www.rushortho.com/occupational-medicine.cfm to learn more about the Midwest Orthopaedics at Rush Occupational Medicine Clinic or give us a call at 877.MD.BONES (877.632.6637) to schedule an appointment.\n\n	 \n\n	Look for more information in your inbox about upcoming events:\n\n	\n		Meet-and-Greet with Dr. Rodarte\n	\n		Grand Opening of the Midwest Orthopaedics at Rush Occupational Medicine Clinic\n\n\n\n\n	To set up a meeting and tour of your workplace with Dr. Richard Rodarte\, please contact\n\n	Paul Strandquist at paul.strandquist@rushortho.com or 708-236-2661.\n\n\n\n\nFor more information about Midwest Orthopaedics at Rush visit www.rushortho.com.\n\n\n\n\n\nSOCIAL MEDIA Sites:\n\n\n	\n		Facebook:   http://www.facebook.com/MidwestOrthopaedicsatRush\n	\n		Twitter:        https://twitter.com/MOR_Docs\n	\n		LinkedIn:     https://www.linkedin.com/company/midwest-orthopaedics-at-rush\n	\n		YouTube:    https://www.youtube.com/user/MidwestOrthoatRush
X-ALT-DESC;FMTTYPE=text/html:<p style="text-align: center">\n	<span style="font-size: 20px"><span style="font-size: 24px">New!!</span><br />\n	<span style="font-size: 22px"><strong>Midwest Orthopaedics at Rush</strong></span><br />\n	<span style="color: #0000ff"><strong><span style="font-size: 24px">Occupational Medicine Clinic</span></strong></span><br />\n	Set to Open on September 4\, 2012</span></p>\n<br />\n<br />\n<br />\n<span style="font-size: 14px">In just a few months Midwest Orthopaedics at Rush will add occupational medicine to its already impressive list of specialties. <strong>Located in Westchester\, IL</strong>\, the new Midwest Orthopaedics at Rush Occupational Medicine Clinic will provide evaluation and treatment of healthcare needs for employers and employees. The new clinic will focus not only on the well-being of individuals within an organization\, but the Chicago-area community as a whole.<br />\n<br />\n<strong>Dr. Richard Rodarte is board certified in Occupational Medicine</strong>. He joined Midwest Orthopaedics at Rush on July 24 as head of the new Midwest Orthopaedics at Rush <span style="color: #0000ff"><strong>Occupational Medicine Clinic</strong></span>. Dr. Rodarte is a native of Chicago and has many years of experience serving the Chicago working community. Dr. Rodarte&rsquo\;s office is located at the <strong>Prairie Medical Center of Westchester</strong>\, 2450 S. Wolf Road\, Suite F.\, Westchester\, IL 60154.</span><br />\n<ul>\n	<li>\n		<span style="font-size: 14px"><em>&ldquo\;I look forward to working with Midwest Orthopaedics at Rush and the opening of the new Midwest Orthopaedics at Rush Occupational Medicine Clinic.&rdquo\;</em></span></li>\n</ul>\n<p>\n	<br />\n	<span style="font-size: 14px">Visit <strong>www.rushortho.com/occupational-medicine.cfm</strong> to learn more about the Midwest Orthopaedics at Rush Occupational Medicine Clinic or give us a call at <strong>877.MD.BONES (877.632.6637)</strong> to <strong>schedule an appointment</strong>.</span></p>\n<p style="text-align: center">\n	&nbsp\;</p>\n<p style="text-align: center">\n	<span style="font-size: 14px"><span style="font-size: 16px"><strong style="font-size: 16px">Look for more information in your inbox about upcoming events:</strong></span></span></p>\n<ul>\n	<li>\n		<span style="font-size: 14px">Meet-and-Greet with Dr. Rodarte</span></li>\n	<li>\n		<span style="font-size: 14px">Grand Opening of the Midwest Orthopaedics at Rush Occupational Medicine Clinic</span></li>\n</ul>\n<br />\n<p style="text-align: center">\n	<span style="font-size: 14px"><span style="font-size: 16px"><strong>To set up a meeting and tour of your workplace with Dr. Richard Rodarte\, please contact<br />\n	Paul Strandquist at <u>paul.strandquist@rushortho.com</u> or 708-236-2661.</strong></span></span></p>\n<br />\n<br />\n<span style="font-size: 14px">For more information about Midwest Orthopaedics at Rush visit <u><strong>www.rushortho.com</strong></u>.<br />\n<br />\n<br />\n<u><span style="color: #0000ff"><strong>SOCIAL MEDIA Sites</strong></span></u>:</span><br />\n<ul>\n	<li>\n		<span style="font-size: 14px"><strong>Facebook</strong>: &nbsp\; http://www.facebook.com/MidwestOrthopaedicsatRush</span></li>\n	<li>\n		<span style="font-size: 14px"><strong>Twitter</strong>: &nbsp\; &nbsp\; &nbsp\; &nbsp\;https://twitter.com/MOR_Docs</span></li>\n	<li>\n		<span style="font-size: 14px"><strong>LinkedIn</strong>: &nbsp\; &nbsp\; https://www.linkedin.com/company/midwest-orthopaedics-at-rush</span></li>\n	<li>\n		<span style="font-size: 14px"><strong>YouTube</strong>: &nbsp\; &nbsp\;https://www.youtube.com/user/MidwestOrthoatRush</span></li>\n</ul>\n
LOCATION:Prairie Medical Center of Westchester 2450 S. Wolf Road\, Suite F.\, Westchester\, IL 60154.
UID:e.333.4925
SEQUENCE:3
DTSTAMP:20260424T180009Z
URL:https://chambermaster.elmhurstchamber.org/events/details/grand-opening-midwest-orthopaedics-at-rush-occupational-medicine-clinic-09-04-2012-4925
END:VEVENT

END:VCALENDAR
