BEGIN:VCALENDAR
VERSION:2.0
PRODID:-//ChamberMaster//Event Calendar 2.0//EN
METHOD:PUBLISH
X-PUBLISHED-TTL:P3D
REFRESH-INTERVAL:P3D
CALSCALE:GREGORIAN
BEGIN:VEVENT
DTSTART:20250914T180000Z
DTEND:20250914T210000Z
X-MICROSOFT-CDO-ALLDAYEVENT:FALSE
SUMMARY:GRAND OPENING- Niche Beauty
DESCRIPTION:Celebrate the launch of our brand-new beauty destination! Niche Beauty brings together flawless hair and makeup\, expert lash services\, brow perfection\, and premium beauty products all under one chic roof. Experience the artistry behind KMBeauty\, Lash Vandal\, and Makeuplan Cosmetics. Join us for light bites\, refreshing drinks\, retail therapy\, and mingle with fellow beauty lovers while exploring our space. Take part in exciting beauty-based raffles\, networking opportunities\, and so much more. We can't wait to see you and celebrate elevated beauty together!
X-ALT-DESC;FMTTYPE=text/html:Celebrate the launch of our brand-new beauty destination! Niche Beauty brings together flawless hair and makeup\, expert lash services\, brow perfection\, and premium beauty products&mdash\;all under one chic roof. Experience the artistry behind KMBeauty\, Lash Vandal\, and Makeuplan Cosmetics. Join us for light bites\, refreshing drinks\, retail therapy\, and mingle with fellow beauty lovers while exploring our space. Take part in exciting beauty-based raffles\, networking opportunities\, and so much more. We can&rsquo\;t wait to see you and celebrate elevated beauty together!
LOCATION:Niche Beauty 1035 S York Street Unit 106 Elmhurst IL
UID:e.333.17107
SEQUENCE:3
DTSTAMP:20260424T084847Z
URL:https://chambermaster.elmhurstchamber.org/events/details/grand-opening-niche-beauty-17107
END:VEVENT

END:VCALENDAR
