BEGIN:VCALENDAR
VERSION:2.0
PRODID:-//ChamberMaster//Event Calendar 2.0//EN
METHOD:PUBLISH
X-PUBLISHED-TTL:P3D
REFRESH-INTERVAL:P3D
CALSCALE:GREGORIAN
BEGIN:VEVENT
DTSTART:20120927T210000Z
DTEND:20120928T000000Z
X-MICROSOFT-CDO-ALLDAYEVENT:FALSE
SUMMARY:Grand Re-Opening of Lexington Square of Elmhurst
DESCRIPTION:You are invited to the Grand Re-Opening of Lexington Square of Elmhurst.   Help us kick off the next decade of excellence in senior living services that now include Licensed Assisted Living.   Join us to celebrate and network with healthcare professionals\, association members\, Chamber members and more as we share the excitement about our Assisted Living license.   Tour our new Assisted living neighborhood and our inviting Independent Living model homes and register for our drawings.   Don't miss the opportunity to win a prize.\,....Massage Envy Gift Certificate/Kindle Fire/Cubs tickets and more.   Cocktails/Hors d'oeuvres and Entertainment\n\nRSVP by September 20\, 2012
X-ALT-DESC;FMTTYPE=text/html:You are invited to the Grand Re-Opening of Lexington Square of Elmhurst.&nbsp\;&nbsp\; Help us kick off the next decade of excellence in senior living services that now include Licensed Assisted Living.&nbsp\;&nbsp\; Join us to celebrate and network with healthcare professionals\, association members\, Chamber members and more as we share the excitement about our Assisted Living license.&nbsp\;&nbsp\; Tour our new Assisted living neighborhood and our inviting Independent Living model homes and register for our drawings.&nbsp\;&nbsp\; Don&#39\;t miss the opportunity to win a prize.\,....Massage Envy Gift Certificate/Kindle Fire/Cubs tickets and more.&nbsp\;&nbsp\; Cocktails/Hors d&#39\;oeuvres and Entertainment<br />\nRSVP by September 20\, 2012
LOCATION:Lexington Square of Elmhurst 400 W. Butterfield Road Elmhurst\, Il 60126
UID:e.333.4934
SEQUENCE:3
DTSTAMP:20260424T194210Z
URL:https://chambermaster.elmhurstchamber.org/events/details/grand-re-opening-of-lexington-square-of-elmhurst-09-27-2012-4934
END:VEVENT

END:VCALENDAR
