BEGIN:VCALENDAR
VERSION:2.0
PRODID:-//ChamberMaster//Event Calendar 2.0//EN
METHOD:PUBLISH
X-PUBLISHED-TTL:P3D
REFRESH-INTERVAL:P3D
CALSCALE:GREGORIAN
BEGIN:VEVENT
DTSTART:20121005T210000Z
DTEND:20121006T043000Z
X-MICROSOFT-CDO-ALLDAYEVENT:FALSE
SUMMARY:Great America "Fright Fest" Trip
DESCRIPTION:Join us for a frightening and exciting day at Six Flags Great America for "Fright Fest." All who enjoy Halloween thrills and chills will enjoy this trip! Call your friends\, register\, and leave the driving to us. Don't forget spending money!\n\n	 \n\n	Fee: $65R/$85NR\n\n	Time: 4   11:30 p.m.\n\n	Location: Wagner Community Center West Parking Lot\n\n	Ages 11-16
X-ALT-DESC;FMTTYPE=text/html:<p class="MsoNormal" style="margin: 0in 0in 0pt">\n	<span style="line-height: 115%\; font-family: 'cambria'\, 'serif'\; font-size: 12pt\; mso-ascii-theme-font: major-latin\; mso-hansi-theme-font: major-latin"><font color="#000000">Join us for a frightening and exciting day at Six Flags Great America for &ldquo\;Fright Fest.&rdquo\; All who enjoy Halloween thrills and chills will enjoy this trip! Call your friends\, register\, and leave the driving to us. Don&rsquo\;t forget spending money!<o:p></o:p></font></span></p>\n<p class="MsoNormal" style="margin: 0in 0in 0pt">\n	<span style="line-height: 115%\; font-family: 'cambria'\, 'serif'\; font-size: 12pt\; mso-ascii-theme-font: major-latin\; mso-hansi-theme-font: major-latin"><o:p><font color="#000000">&nbsp\;</font></o:p></span></p>\n<p class="MsoNormal" style="margin: 0in 0in 0pt">\n	<span style="line-height: 115%\; font-family: 'cambria'\, 'serif'\; font-size: 12pt\; mso-ascii-theme-font: major-latin\; mso-hansi-theme-font: major-latin"><font color="#000000">Fee: $65R/$85NR</font></span></p>\n<p class="MsoNormal" style="margin: 0in 0in 0pt">\n	<span style="line-height: 115%\; font-family: 'cambria'\, 'serif'\; font-size: 12pt\; mso-ascii-theme-font: major-latin\; mso-hansi-theme-font: major-latin"><font color="#000000">Time: 4 &ndash\; 11:30 p.m.<o:p></o:p></font></span></p>\n<p class="MsoNormal" style="margin: 0in 0in 0pt">\n	<span style="line-height: 115%\; font-family: 'cambria'\, 'serif'\; font-size: 12pt\; mso-ascii-theme-font: major-latin\; mso-hansi-theme-font: major-latin"><font color="#000000">Location: Wagner Community Center West Parking Lot<br />\n	Ages 11-16</font></span></p>\n
LOCATION:Wagner Community Center West Parking Lot
UID:e.333.4913
SEQUENCE:3
DTSTAMP:20260424T162659Z
URL:https://chambermaster.elmhurstchamber.org/events/details/great-america-fright-fest-trip-10-05-2012-4913
END:VEVENT

END:VCALENDAR
