BEGIN:VCALENDAR
VERSION:2.0
PRODID:-//ChamberMaster//Event Calendar 2.0//EN
METHOD:PUBLISH
X-PUBLISHED-TTL:P3D
REFRESH-INTERVAL:P3D
CALSCALE:GREGORIAN
BEGIN:VEVENT
DTSTART:20120516T223000Z
DTEND:20120516T233000Z
X-MICROSOFT-CDO-ALLDAYEVENT:FALSE
SUMMARY:"Growing Your Local Business Strategically Through the Digital Space"
DESCRIPTION:As part of our Professional Speakers Series\, Chicago Tribune Account Executive Jen Whitney and Chicago Tribune Digital Sales Manager Pete Rosengren will present an overview on how to propel your business in the Chicago market using digital advertising.  The presentation is entitled "Growing Your Local Business Strategically Through the Digital Space."
X-ALT-DESC;FMTTYPE=text/html:As part of our Professional Speakers Series\,&nbsp\;Chicago Tribune Account Executive Jen Whitney and Chicago Tribune Digital Sales Manager Pete Rosengren will present an overview on how to propel your business in the Chicago market using digital advertising.&nbsp\; The presentation is entitled &quot\;Growing Your Local Business Strategically Through the Digital Space.&quot\;
LOCATION:Elmhurst Chamber of Commerce & Industry Community Bank of Elmhurst Board Room 242 N York St.\, Ste. 102 Elmhurst\, IL 60126
UID:e.333.4544
SEQUENCE:3
DTSTAMP:20260425T022119Z
URL:https://chambermaster.elmhurstchamber.org/events/details/growing-your-local-business-strategically-through-the-digital-space-05-16-2012-4544
END:VEVENT

END:VCALENDAR
