BEGIN:VCALENDAR
VERSION:2.0
PRODID:-//ChamberMaster//Event Calendar 2.0//EN
METHOD:PUBLISH
X-PUBLISHED-TTL:P3D
REFRESH-INTERVAL:P3D
CALSCALE:GREGORIAN
BEGIN:VEVENT
DTSTART;VALUE=DATE:20130401
DTEND;VALUE=DATE:20130526
TRANSP:TRANSPARENT
X-MICROSOFT-CDO-ALLDAYEVENT:TRUE
SUMMARY:Gymnastics
DESCRIPTION:Our recreational gymnastics classes incorporate the earliest aspects of physical fitness\, motor development\, hand eye coordination\, strength\, and flexibility.  The focus is teaching spatial awareness\, socialization and gymnastics skills.  As the child grows\, the focus moves on to skill development in a fun and safe atmosphere.  Participants are to wear clothing that allows for movement\, hair must be tied back\, no socks - barefoot is best!  Spring gymnastic programs start April 1st.  Visit the park district website for dates and times\, www.epd.org
X-ALT-DESC;FMTTYPE=text/html:Our recreational gymnastics classes incorporate the earliest aspects of physical fitness\, motor development\, hand eye coordination\, strength\, and flexibility.&nbsp\; The focus is teaching spatial awareness\, socialization and gymnastics skills.&nbsp\; As the child grows\, the focus moves on to skill development in a fun and safe atmosphere.&nbsp\; Participants are to wear clothing that allows for movement\, hair must be tied back\, no socks - barefoot is best!&nbsp\; Spring gymnastic programs start April 1st.&nbsp\; Visit&nbsp\;the park district website for dates and times\,&nbsp\;<a href="http://www.epd.org">www.epd.org</a>&nbsp\;&nbsp\; 
LOCATION:Wagner Community Center
UID:e.333.5203
SEQUENCE:3
DTSTAMP:20260422T180428Z
URL:https://chambermaster.elmhurstchamber.org/events/details/gymnastics-04-01-2013-5203
END:VEVENT

END:VCALENDAR
