BEGIN:VCALENDAR
VERSION:2.0
PRODID:-//ChamberMaster//Event Calendar 2.0//EN
METHOD:PUBLISH
X-PUBLISHED-TTL:P3D
REFRESH-INTERVAL:P3D
CALSCALE:GREGORIAN
BEGIN:VEVENT
DTSTART:20110430T230000Z
DTEND:20110501T020000Z
X-MICROSOFT-CDO-ALLDAYEVENT:FALSE
SUMMARY:Haiti Art Auction
DESCRIPTION:This is the 2011 fundraiser sponsored by the Episcopal Diocese of Chicago to help raise money and awareness of the current situation in post-earthquake Haiti.\n\n\n\nThe fundraiser will consist of a free will offering\, silent auction and then at 7:30 PM a public auction.\n\n\n\nAll paintings that are being auctioned off have been\n\npurchased and donated from artists and street vendors in Haiti. Through a gracious gift of all pieces of artwork\, all funds raised on April 30th will go directly to relief efforts in Haiti.\n\n\n\nPlease visit the facebook page and official website for pictures of the paintings and more details!\n\n\n\n\n\n\n\n\n\n\n\n\n\n\n\n\n\n\n\n\n\nhttp://web.me.com/aeyoungkin/Site_4/Sponsored_by_the_Commission_on_Global_Ministry.html
X-ALT-DESC;FMTTYPE=text/html:This is the 2011 fundraiser sponsored by the Episcopal Diocese of Chicago to help raise money and awareness of the current situation in post-earthquake Haiti.<br />\n<br />\nThe fundraiser will consist of a free will offering\, silent auction and then at 7:30 PM a public auction.<br />\n<br />\nAll paintings that are being auctioned off have been<br />\npurchased and donated from artists and street vendors in Haiti. Through a gracious gift of all pieces of artwork\, all funds raised on April 30th will go directly to relief efforts in Haiti.<br />\n<br />\nPlease visit the facebook page and official website for pictures of the paintings and more details!<br />\n<br />\n<br />\n<br />\n<br />\n<br />\n<br />\n<br />\n<br />\n<br />\n<br />\n<a href="http://web.me.com/aeyoungkin/Site_4/Sponsored_by_the_Commission_on_Global_Ministry.html">http://web.me.com/aeyoungkin/Site_4/Sponsored_by_the_Commission_on_Global_Ministry.html</a><span _fck_bookmark="1" style="display: none">&nbsp\;</span><br />\n<br />\n
LOCATION:The Clarion Inn\; Elmhurst 933 S. Riverside Drive\, Elmhurst\, IL\, US\, 60126 Phone: (630) 279-0700
UID:e.333.4088
SEQUENCE:3
DTSTAMP:20260425T204748Z
URL:https://chambermaster.elmhurstchamber.org/events/details/haiti-art-auction-04-30-2011-4088
END:VEVENT

END:VCALENDAR
