BEGIN:VCALENDAR
VERSION:2.0
PRODID:-//ChamberMaster//Event Calendar 2.0//EN
METHOD:PUBLISH
X-PUBLISHED-TTL:P3D
REFRESH-INTERVAL:P3D
CALSCALE:GREGORIAN
BEGIN:VEVENT
DTSTART:20121027T200000Z
DTEND:20121028T020000Z
X-MICROSOFT-CDO-ALLDAYEVENT:FALSE
SUMMARY:Halloween Town
DESCRIPTION:Join us for an evening of safe Halloween fun as the Wagner Community Center is transformed into Halloween Town. There will be traditional carnival games with prizes\, inflatable's\, a haunted house\, a costume contest and more.  Children and parents both are encouraged to wear costumes. Your wristband allows you unlimited access to all activities. Register for this event and receive your wristbands at the front desk of the Wagner Community Center.\n\n	 \n\n	Ages up to 9 years (with a parent)\n\n	3 -5 p.m. - $10 wristband per child\n\n	 \n\n	Ages 10 years & up \n\n	7   9 p.m. - $10 wristband per child
X-ALT-DESC;FMTTYPE=text/html:<p class="MsoNormal" style="margin: 0in 0in 0pt">\n	<span style="line-height: 115%\; font-family: 'cambria'\, 'serif'\; font-size: 12pt\; mso-ascii-theme-font: major-latin\; mso-hansi-theme-font: major-latin"><font color="#000000">Join us for an evening of safe Halloween fun as the Wagner Community Center is transformed into Halloween Town. There will be traditional carnival games with prizes\, inflatable&rsquo\;s\, a haunted house\, a costume contest and more.<span style="mso-spacerun: yes">&nbsp\; </span>Children and parents both are encouraged to wear costumes. Your wristband allows you unlimited access to all activities. Register for this event and receive your wristbands at the front desk of the Wagner Community Center.<o:p></o:p></font></span></p>\n<p class="MsoNormal" style="margin: 0in 0in 0pt">\n	<span style="line-height: 115%\; font-family: 'cambria'\, 'serif'\; font-size: 12pt\; mso-ascii-theme-font: major-latin\; mso-hansi-theme-font: major-latin"><o:p><font color="#000000">&nbsp\;</font></o:p></span></p>\n<p class="MsoNormal" style="margin: 0in 0in 0pt">\n	<span style="line-height: 115%\; font-family: 'cambria'\, 'serif'\; font-size: 12pt\; mso-ascii-theme-font: major-latin\; mso-hansi-theme-font: major-latin"><font color="#000000">Ages up to 9 years (with a parent)<o:p></o:p></font></span></p>\n<p class="MsoNormal" style="margin: 0in 0in 0pt">\n	<span style="line-height: 115%\; font-family: 'cambria'\, 'serif'\; font-size: 12pt\; mso-ascii-theme-font: major-latin\; mso-hansi-theme-font: major-latin"><font color="#000000">3 -5 p.m. - $10 wristband per child</font></span><br />\n	&nbsp\;</p>\n<p class="MsoNormal" style="margin: 0in 0in 0pt">\n	<span style="line-height: 115%\; font-family: 'cambria'\, 'serif'\; font-size: 12pt\; mso-ascii-theme-font: major-latin\; mso-hansi-theme-font: major-latin"><font color="#000000">Ages 10 years &amp\; up <o:p></o:p></font></span></p>\n<p class="MsoNormal" style="margin: 0in 0in 0pt">\n	<span style="line-height: 115%\; font-family: 'cambria'\, 'serif'\; font-size: 12pt\; mso-ascii-theme-font: major-latin\; mso-hansi-theme-font: major-latin"><font color="#000000">7 &ndash\; 9 p.m. - $10 wristband per child<o:p></o:p></font></span></p>\n
LOCATION:Wagner Community Center
UID:e.333.4905
SEQUENCE:3
DTSTAMP:20260424T162348Z
URL:https://chambermaster.elmhurstchamber.org/events/details/halloween-town-10-27-2012-4905
END:VEVENT

END:VCALENDAR
