BEGIN:VCALENDAR
VERSION:2.0
PRODID:-//ChamberMaster//Event Calendar 2.0//EN
METHOD:PUBLISH
X-PUBLISHED-TTL:P3D
REFRESH-INTERVAL:P3D
CALSCALE:GREGORIAN
BEGIN:VEVENT
DTSTART:20121025T220000Z
DTEND:20121026T040000Z
X-MICROSOFT-CDO-ALLDAYEVENT:FALSE
SUMMARY:Haunted Houses Tour for Teens
DESCRIPTION:Like haunted houses\, corn mazes\, and other Halloween fun? Grab your friends and join us as we visit two terrifying haunted houses in the Chicagoland area. The bus will pick up and drop off at the Wagner Center. Don't forget spending money as we'll stop in between houses for food! \n\n	 \n\n	Fee: $50R/$62NR\n\n	Time: 5   11 p.m.\n\n	Location: Wagner Community Center Main Parking Lot\n\n	Ages 11-15
X-ALT-DESC;FMTTYPE=text/html:<p class="MsoNormal" style="margin: 0in 0in 0pt">\n	<span style="line-height: 115%\; font-family: 'cambria'\, 'serif'\; font-size: 12pt\; mso-ascii-theme-font: major-latin\; mso-hansi-theme-font: major-latin"><font color="#000000">Like haunted houses\, corn mazes\, and other Halloween fun? Grab your friends and join us as we visit two terrifying haunted houses in the Chicagoland area. The bus will pick up and drop off at the Wagner Center. Don&rsquo\;t forget spending money as we&rsquo\;ll stop in between houses for food! <o:p></o:p></font></span></p>\n<p class="MsoNormal" style="margin: 0in 0in 0pt">\n	<span style="line-height: 115%\; font-family: 'cambria'\, 'serif'\; font-size: 12pt\; mso-ascii-theme-font: major-latin\; mso-hansi-theme-font: major-latin"><o:p><font color="#000000">&nbsp\;</font></o:p></span></p>\n<p class="MsoNormal" style="margin: 0in 0in 0pt">\n	<span style="line-height: 115%\; font-family: 'cambria'\, 'serif'\; font-size: 12pt\; mso-ascii-theme-font: major-latin\; mso-hansi-theme-font: major-latin"><font color="#000000">Fee: $50R/$62NR</font></span></p>\n<p class="MsoNormal" style="margin: 0in 0in 0pt">\n	<span style="line-height: 115%\; font-family: 'cambria'\, 'serif'\; font-size: 12pt\; mso-ascii-theme-font: major-latin\; mso-hansi-theme-font: major-latin"><font color="#000000">Time: 5 &ndash\; 11 p.m.<o:p></o:p></font></span></p>\n<p class="MsoNormal" style="margin: 0in 0in 0pt">\n	<span style="line-height: 115%\; font-family: 'cambria'\, 'serif'\; font-size: 12pt\; mso-ascii-theme-font: major-latin\; mso-hansi-theme-font: major-latin"><font color="#000000">Location: Wagner Community Center Main Parking Lot<br />\n	Ages 11-15</font></span></p>\n
LOCATION:Wagner Community Center Main Parking Lot
UID:e.333.4914
SEQUENCE:3
DTSTAMP:20260424T162602Z
URL:https://chambermaster.elmhurstchamber.org/events/details/haunted-houses-tour-for-teens-10-25-2012-4914
END:VEVENT

END:VCALENDAR
