BEGIN:VCALENDAR
VERSION:2.0
PRODID:-//ChamberMaster//Event Calendar 2.0//EN
METHOD:PUBLISH
X-PUBLISHED-TTL:P3D
REFRESH-INTERVAL:P3D
CALSCALE:GREGORIAN
BEGIN:VEVENT
DTSTART:20121103T150000Z
DTEND:20121103T200000Z
X-MICROSOFT-CDO-ALLDAYEVENT:FALSE
SUMMARY:herDMG Day
DESCRIPTION:DuPage Medical Group will host "herDMG\," a day dedicated to women's health from 10 a.m.- 3 p.m. on Saturday\, Nov. 3 at 430 Pennsylvania Ave. in Glen Ellyn.\n\n	Participants can schedule herDMG exams\, which include yearly physicals\, lab testing\, mammograms and other services at one time and in one convenient location.  In addition\, DMG physicians and staff will offer a number of presentations focused on women's health issues\, including:\n\n	            Managing menopause\n\n	            Young adult and adolescent health\n\n	            Family exercise and nutrition\n\n	            Emotional health\n\n	            Mammography\n\n	Payment is required for exams and testing\, though the health presentations and health fair portion of the event are complimentary.\n\n	To schedule a herDMG exam\, call (888) 693-6437. Staff members will explain payment and insurance coverage options.
X-ALT-DESC;FMTTYPE=text/html:<!--StartFragment-->\n<p class="MsoNormal">\n	<span style="font-family: arial">DuPage Medical Group will host &ldquo\;herDMG\,&rdquo\; a day dedicated to women&rsquo\;s health from 10 a.m.- 3 p.m. on Saturday\, Nov. 3 at 430 Pennsylvania Ave. in Glen Ellyn.</span></p>\n<p class="MsoNormal">\n	<span style="font-family: arial">Participants can schedule herDMG exams\, which include yearly physicals\, lab testing\, mammograms and other services at one time and in one convenient location. &nbsp\;In addition\, DMG physicians and staff will offer a number of presentations focused on women&rsquo\;s health issues\, including:</span></p>\n<p class="MsoNormal">\n	<span style="font-family: arial">&bull\;&nbsp\;&nbsp\;&nbsp\;&nbsp\;&nbsp\;&nbsp\;&nbsp\;&nbsp\;&nbsp\;&nbsp\; Managing menopause</span><span style="font-family: calibri\; mso-bidi-font-family: calibri"><o:p></o:p></span></p>\n<p class="MsoNormal">\n	<span style="font-family: arial">&bull\;&nbsp\;&nbsp\;&nbsp\;&nbsp\;&nbsp\;&nbsp\;&nbsp\;&nbsp\;&nbsp\;&nbsp\; Young adult and adolescent health</span><span style="font-family: calibri\; mso-bidi-font-family: calibri"><o:p></o:p></span></p>\n<p class="MsoNormal">\n	<span style="font-family: arial">&bull\;&nbsp\;&nbsp\;&nbsp\;&nbsp\;&nbsp\;&nbsp\;&nbsp\;&nbsp\;&nbsp\;&nbsp\; Family exercise and nutrition</span><span style="font-family: calibri\; mso-bidi-font-family: calibri"><o:p></o:p></span></p>\n<p class="MsoNormal">\n	<span style="font-family: arial">&bull\;&nbsp\;&nbsp\;&nbsp\;&nbsp\;&nbsp\;&nbsp\;&nbsp\;&nbsp\;&nbsp\;&nbsp\; Emotional health</span><span style="font-family: calibri\; mso-bidi-font-family: calibri"><o:p></o:p></span></p>\n<p class="MsoNormal">\n	<span style="font-family: arial">&bull\;&nbsp\;&nbsp\;&nbsp\;&nbsp\;&nbsp\;&nbsp\;&nbsp\;&nbsp\;&nbsp\;&nbsp\; Mammography</span></p>\n<p class="MsoNormal">\n	<span style="font-family: arial">Payment is required for exams and testing\, though the health presentations and health fair portion of the event are complimentary.</span></p>\n<p class="MsoNormal">\n	<span style="font-family: arial">To schedule a herDMG exam\, call (888) 693-6437. Staff members will explain payment and insurance coverage options.&nbsp\;</span><span style="font-family: calibri\; mso-bidi-font-family: calibri"><o:p></o:p></span></p>\n<!--EndFragment-->
LOCATION:DuPage Medical Group 430 Pennsylvania Ave. Glen Ellyn\, IL
UID:e.333.5100
SEQUENCE:3
DTSTAMP:20260424T145333Z
URL:https://chambermaster.elmhurstchamber.org/events/details/herdmg-day-11-03-2012-5100
END:VEVENT

END:VCALENDAR
