BEGIN:VCALENDAR
VERSION:2.0
PRODID:-//ChamberMaster//Event Calendar 2.0//EN
METHOD:PUBLISH
X-PUBLISHED-TTL:P3D
REFRESH-INTERVAL:P3D
CALSCALE:GREGORIAN
BEGIN:VEVENT
DTSTART:20130531T223000Z
DTEND:20130601T013000Z
X-MICROSOFT-CDO-ALLDAYEVENT:FALSE
SUMMARY:Hershey Track and Field Competition
DESCRIPTION:Ages 9-14 \n\nCome out and show off your running\, jumping\, and throwing skills for a chance to advance to the state meet in Chicago or even the national meet in Hershey\, Pennsylvania.  First and second place finishers from this competition will advance to the state meet.  Participants compete in events such as the 50\, 100\, 200 and 400 meter dash\, 800 and 1600 meter run\, the softball throw and the standing long jump.  Participants can enter three events\, either two running and one field event or two field and one running event.  What a great opportunity to have fun\, get active and it's free!  Age groups are determined by the age of the children on December 31\, 2013.
X-ALT-DESC;FMTTYPE=text/html:Ages 9-14<font color="#000000" face="Times New Roman" size="3"> </font><br />\n<span style="font-size: 10pt\;"><font color="#000000"><font face="Calibri">Come out and show off your running\, jumping\, and throwing skills for a chance to advance to the state meet in Chicago or even the national meet in Hershey\, Pennsylvania.<span style="mso-spacerun: yes\;">&nbsp\; </span>First and second place finishers from this competition will advance to the state meet.<span style="mso-spacerun: yes\;">&nbsp\; </span>Participants compete in events such as the 50\, 100\, 200 and 400 meter dash\, 800 and 1600 meter run\, the softball throw and the standing long jump.<span style="mso-spacerun: yes\;">&nbsp\; </span>Participants can enter three events\, either two running and one field event or two field and one running event.<span style="mso-spacerun: yes\;">&nbsp\; </span>What a great opportunity to have fun\, get active and it&rsquo\;s free!<span style="mso-spacerun: yes\;">&nbsp\; </span>Age groups are determined by the age of the children on December 31\, 2013.<o:p></o:p></font></font></span><font color="#000000" face="Times New Roman" size="3"> </font>
LOCATION:York High School
UID:e.333.5207
SEQUENCE:3
DTSTAMP:20260422T180446Z
URL:https://chambermaster.elmhurstchamber.org/events/details/hershey-track-and-field-competition-05-31-2013-5207
END:VEVENT

END:VCALENDAR
