BEGIN:VCALENDAR
VERSION:2.0
PRODID:-//ChamberMaster//Event Calendar 2.0//EN
METHOD:PUBLISH
X-PUBLISHED-TTL:P3D
REFRESH-INTERVAL:P3D
CALSCALE:GREGORIAN
BEGIN:VEVENT
DTSTART:20120601T223000Z
DTEND:20120602T013000Z
X-MICROSOFT-CDO-ALLDAYEVENT:FALSE
SUMMARY:Hershey Track & Field Competition
DESCRIPTION:Want to show off your inner track star? Come out and display your running\, jumping and throwing skills in the Hershey Track & Field Competition for a chance to advance to the state meet in Chicago or even the national meet in Hershey\, Pennsylvania. Ages 9-14. Free admission\, registration is required.
X-ALT-DESC;FMTTYPE=text/html:<p>\n	<span style="font-family: 'cambria'\, 'serif'\; font-size: 11pt\; mso-ascii-theme-font: major-latin\; mso-hansi-theme-font: major-latin"><font color="#000000">Want to show off your inner track star? Come out and display your running\, jumping and throwing skills in the Hershey Track &amp\; Field Competition for a chance to advance to the state meet in Chicago or even the national meet in Hershey\, Pennsylvania. Ages 9-14. Free admission\, registration is required.<o:p></o:p></font></span></p>\n
LOCATION:York High School track
UID:e.333.4858
SEQUENCE:3
DTSTAMP:20260424T225706Z
URL:https://chambermaster.elmhurstchamber.org/events/details/hershey-track-field-competition-06-01-2012-4858
END:VEVENT

END:VCALENDAR
