BEGIN:VCALENDAR
VERSION:2.0
PRODID:-//ChamberMaster//Event Calendar 2.0//EN
METHOD:PUBLISH
X-PUBLISHED-TTL:P3D
REFRESH-INTERVAL:P3D
CALSCALE:GREGORIAN
BEGIN:VEVENT
DTSTART;VALUE=DATE:20131102
DTEND;VALUE=DATE:20131103
TRANSP:TRANSPARENT
X-MICROSOFT-CDO-ALLDAYEVENT:TRUE
SUMMARY:History Gala
DESCRIPTION:Dining\, music\, auctions\, and fun to benefit the Elmhurst Historical Museum.
X-ALT-DESC;FMTTYPE=text/html:Dining\, music\, auctions\, and fun to benefit the Elmhurst Historical Museum.
LOCATION:Drury Lane Oak Brook Terrace
UID:e.333.5136
SEQUENCE:3
DTSTAMP:20260424T084550Z
URL:https://chambermaster.elmhurstchamber.org/events/details/history-gala-11-02-2013-5136
END:VEVENT

END:VCALENDAR
