BEGIN:VCALENDAR
VERSION:2.0
PRODID:-//ChamberMaster//Event Calendar 2.0//EN
METHOD:PUBLISH
X-PUBLISHED-TTL:P3D
REFRESH-INTERVAL:P3D
CALSCALE:GREGORIAN
BEGIN:VEVENT
DTSTART:20101212T190000Z
DTEND:20101212T210000Z
X-MICROSOFT-CDO-ALLDAYEVENT:FALSE
SUMMARY:Holiday Gift Workshop
DESCRIPTION:Kids can create-their-own holiday gifts for grandparents\, teachers or friends during this drop-in family workshop -- no shopping required! Participants will make an adorable snowman bobble-head photo holder or a jingle bell cardinal ornament. Enjoy complimentary hot cocoa while viewing the merry holiday-themed model train display presented by the T-Trackers Model Train Club. Ages 4+\, children must be accompanied by a parent or caregiver. Program is held in the Education Center.
X-ALT-DESC;FMTTYPE=text/html:Kids can create-their-own holiday gifts for grandparents\, teachers or friends during this drop-in family workshop -- no shopping required! Participants will make an adorable snowman bobble-head photo holder or a jingle bell cardinal ornament. Enjoy complimentary hot cocoa while viewing the merry holiday-themed model train display presented by the T-Trackers Model Train Club. Ages 4+\, children must be accompanied by a parent or caregiver. Program is held in the Education Center. 
LOCATION:Elmhurst Historical Museum\, 120 E. Park Ave.\, Elmhurst
UID:e.333.3650
SEQUENCE:3
DTSTAMP:20260426T042716Z
URL:https://chambermaster.elmhurstchamber.org/events/details/holiday-gift-workshop-12-12-2010-3650
END:VEVENT

END:VCALENDAR
