BEGIN:VCALENDAR
VERSION:2.0
PRODID:-//ChamberMaster//Event Calendar 2.0//EN
METHOD:PUBLISH
X-PUBLISHED-TTL:P3D
REFRESH-INTERVAL:P3D
CALSCALE:GREGORIAN
BEGIN:VEVENT
DTSTART:20121214T220000Z
DTEND:20121215T010000Z
X-MICROSOFT-CDO-ALLDAYEVENT:FALSE
SUMMARY:Holiday Open house
DESCRIPTION:YOU'RE INVITED TO OUR HOLIDAY OPEN HOUSE.\n\n\n\nPlease join us for our Holiday Open House! Share in our holiday cheer as we usher in this grand season with a special celebration. We are happy to be a part of your community\, and we would like to express our appreciation for your confidence and support. Dinner will be served.\n\n\n\nCall my office for more information\, including driving directions.\n\n\n\nI look forward to seeing you there!\n\n\n\nPlease rsvp by December 7th to Cindy Cooper (630)279-5530.
X-ALT-DESC;FMTTYPE=text/html:<span style="color: #006400"><span style="background-color: #ffffe0">YOU&#39\;RE INVITED TO OUR HOLIDAY OPEN HOUSE</span></span><span style="background-color: #ffffe0">.</span><br />\n<br />\nPlease join us for our Holiday Open House! Share in our holiday cheer as we usher in this grand season with a special celebration. We are happy to be a part of your community\, and we would like to express our appreciation for your confidence and support.&nbsp\;Dinner will be served.<br />\n<br />\nCall my office for more information\, including driving directions.<br />\n<br />\nI look forward to seeing you there!<br />\n<br />\nPlease rsvp by December 7th to Cindy Cooper (630)279-5530.<br />\n
LOCATION:Edward Jones 115 W. Vallette
UID:e.333.5129
SEQUENCE:3
DTSTAMP:20260424T131917Z
URL:https://chambermaster.elmhurstchamber.org/events/details/holiday-open-house-12-14-2012-5129
END:VEVENT

END:VCALENDAR
