BEGIN:VCALENDAR
VERSION:2.0
PRODID:-//ChamberMaster//Event Calendar 2.0//EN
METHOD:PUBLISH
X-PUBLISHED-TTL:P3D
REFRESH-INTERVAL:P3D
CALSCALE:GREGORIAN
BEGIN:VEVENT
DTSTART:20101204T233000Z
DTEND:20101205T050000Z
X-MICROSOFT-CDO-ALLDAYEVENT:FALSE
SUMMARY:Holiday Party and Mary E Roche Benefit Fundraiser
DESCRIPTION:Come join us for a night of dinner\, dancing\, and generosity. Participate in live and silent auctions. All proceeds will benefit a local family and provide hope for a woman trying to save her sister. Tis the season!
X-ALT-DESC;FMTTYPE=text/html:Come join us for a night of dinner\, dancing\, and generosity. Participate in live and silent auctions. All proceeds will benefit a local family and provide hope for a woman trying to save her sister. Tis the season!
LOCATION:Diplomat West Banquets 681 W North Ave\, Elmhurst\, IL
UID:e.333.3581
SEQUENCE:3
DTSTAMP:20260426T042954Z
URL:https://chambermaster.elmhurstchamber.org/events/details/holiday-party-and-mary-e-roche-benefit-fundraiser-12-04-2010-3581
END:VEVENT

END:VCALENDAR
