BEGIN:VCALENDAR
VERSION:2.0
PRODID:-//ChamberMaster//Event Calendar 2.0//EN
METHOD:PUBLISH
X-PUBLISHED-TTL:P3D
REFRESH-INTERVAL:P3D
CALSCALE:GREGORIAN
BEGIN:VEVENT
DTSTART:20130404T173000Z
DTEND:20130425T193000Z
X-MICROSOFT-CDO-ALLDAYEVENT:FALSE
SUMMARY:Home School Science
DESCRIPTION:Our program is designed to help home school families supplement their education process.  We offer a structured\, hands-on\, outdoor science program for grades K-12.  All of our lessons have been developed to adhere to Illinois state standards.  Each lesson will offer a variety of lab and classroom time finished up with graded assessment.  The classes are broken up into age and skill specific groups.  Visit our website for information on dates and times.
X-ALT-DESC;FMTTYPE=text/html:Our program is designed to help home school families supplement their education process.&nbsp\; We offer a structured\, hands-on\, outdoor science program for grades K-12.&nbsp\; All of our lessons have been developed to adhere to Illinois state standards.&nbsp\; Each lesson will offer a variety of lab&nbsp\;and classroom time finished up with graded assessment.&nbsp\; The classes are broken up into age and skill specific groups.&nbsp\; Visit our website for information on dates and times.
LOCATION:Eldridge Park Lower Rec Building
UID:e.333.5201
SEQUENCE:3
DTSTAMP:20260422T194001Z
URL:https://chambermaster.elmhurstchamber.org/events/details/home-school-science-04-04-2013-5201
END:VEVENT

END:VCALENDAR
