BEGIN:VCALENDAR
VERSION:2.0
PRODID:-//ChamberMaster//Event Calendar 2.0//EN
METHOD:PUBLISH
X-PUBLISHED-TTL:P3D
REFRESH-INTERVAL:P3D
CALSCALE:GREGORIAN
BEGIN:VEVENT
DTSTART:20110525T000000Z
DTEND:20110525T020000Z
X-MICROSOFT-CDO-ALLDAYEVENT:FALSE
SUMMARY:Hope for ADHD and Autism
DESCRIPTION:Hope for ADHD and AUTISM\n\n\n\nWhat is going on?\n\n\n\nAccording to the US Department of Education\, autism is increasing at a rate between 10% and 17% per year. \n\n\n\nCan these patients be helped?\n\n\n\nLearn the surprising answers during a FREE Seminar at Elmhurst College.\n\n\n\nGo to this website for more information: www.drtrichardt.com
X-ALT-DESC;FMTTYPE=text/html:<strong><span style="font-size: 14px">Hope for ADHD and AUTISM</span></strong><br />\n<br />\nWhat is going on?<br />\n<br />\nAccording to the US Department of Education\, autism is increasing at a rate between 10% and 17% per year.&nbsp\;<br />\n<br />\n<span style="font-size: 14px"><strong>Can these patients be helped?</strong><br />\n<br />\n<span style="font-size: 12px">Learn the surprising answers during a FREE Seminar at Elmhurst College.<br />\n<br />\nGo to this website for&nbsp\;more information: <a href="http://www.drtrichardt.com">www.drtrichardt.com</a> </span></span>
LOCATION:Elmhurst College 190 Prospect Ave. Elmhurst
UID:e.333.4191
SEQUENCE:3
DTSTAMP:20260425T204639Z
URL:https://chambermaster.elmhurstchamber.org/events/details/hope-for-adhd-and-autism-05-24-2011-4191
END:VEVENT

END:VCALENDAR
