BEGIN:VCALENDAR
VERSION:2.0
PRODID:-//ChamberMaster//Event Calendar 2.0//EN
METHOD:PUBLISH
X-PUBLISHED-TTL:P3D
REFRESH-INTERVAL:P3D
CALSCALE:GREGORIAN
BEGIN:VEVENT
DTSTART:20120516T164500Z
DTEND:20120516T180000Z
X-MICROSOFT-CDO-ALLDAYEVENT:FALSE
SUMMARY:"How to Control Your Workers Compensation Costs"
DESCRIPTION:As part of our Professional Speaker Seminar Series\, Kyle Kost\, Marketing Coordinator\, Advanced Occupational Medicine Specialists\, will present a one-hour seminar on "How to Control Your Workers Compensation Costs." \n\n\n\nAttendance will be free to Chamber members and special guests.
X-ALT-DESC;FMTTYPE=text/html:As part of our Professional Speaker Seminar Series\,&nbsp\;Kyle Kost\, Marketing Coordinator\, Advanced Occupational Medicine Specialists\,&nbsp\;will&nbsp\;present a one-hour seminar on&nbsp\;&quot\;<em>How to Control Your&nbsp\;Workers Compensation Costs.&quot\;</em>&nbsp\;<br />\n<br />\nAttendance will be free to Chamber members and special guests.&nbsp\; 
LOCATION:Elmhurst Chamber of Commerce & Industry Community Bank of Elmhurst Board Room 242 N York St.\, Ste. 102 Elmhurst\, IL 60126
UID:e.333.4545
SEQUENCE:3
DTSTAMP:20260425T003716Z
URL:https://chambermaster.elmhurstchamber.org/events/details/how-to-control-your-workers-compensation-costs-05-16-2012-4545
END:VEVENT

END:VCALENDAR
