BEGIN:VCALENDAR
VERSION:2.0
PRODID:-//ChamberMaster//Event Calendar 2.0//EN
METHOD:PUBLISH
X-PUBLISHED-TTL:P3D
REFRESH-INTERVAL:P3D
CALSCALE:GREGORIAN
BEGIN:VEVENT
DTSTART:20110410T163000Z
DTEND:20110410T173000Z
X-MICROSOFT-CDO-ALLDAYEVENT:FALSE
SUMMARY:How to Make Your Home More "Green" and Healthy
DESCRIPTION:Kay McKeen from DuPage County SCARCE will be the speaker for our Spring Green Team Presentation.  She will share ways to make your home more "green" and healthy.  This free event is open to the public and will be held in the church parlor.
X-ALT-DESC;FMTTYPE=text/html:Kay McKeen from DuPage County SCARCE will be the speaker for our Spring Green Team Presentation.  She will share ways to make your home more "green" and healthy.  This free event is open to the public and will be held in the church parlor.
LOCATION:First Congregational United Church of Christ 235 S. Kenilworth\, Elmhurst\, IL
UID:e.333.4153
SEQUENCE:3
DTSTAMP:20260425T205024Z
URL:https://chambermaster.elmhurstchamber.org/events/details/how-to-make-your-home-more-green-and-healthy-04-10-2011-4153
END:VEVENT

END:VCALENDAR
