BEGIN:VCALENDAR
VERSION:2.0
PRODID:-//ChamberMaster//Event Calendar 2.0//EN
METHOD:PUBLISH
X-PUBLISHED-TTL:P3D
REFRESH-INTERVAL:P3D
CALSCALE:GREGORIAN
BEGIN:VEVENT
DTSTART:20130630T013000Z
DTEND:20130630T040000Z
X-MICROSOFT-CDO-ALLDAYEVENT:FALSE
SUMMARY:Hub After Hours
DESCRIPTION:Ages 5-11\n\n	Run wild at The Hub after hours with unlimited access to the batting cages\, miniature golf and sprayground.  Enjoy backyard activities such as baggo or make s'mores around the fire.  Concessions will be open to purchase food and drinks.  Pre register or register day of at The Hub.
X-ALT-DESC;FMTTYPE=text/html:<p class="MsoNormal" style="margin: 0in 0in 0pt 0.1in\;">\n	<font color="#000000" face="Calibri" size="3">Ages 5-11</font></p>\n<p class="MsoNormal" style="margin: 0in 0in 0pt 0.1in\;">\n	<font color="#000000" face="Calibri" size="3">Run wild at The Hub after hours with unlimited access to the batting cages\, miniature golf and sprayground.<span style="mso-spacerun: yes\;">&nbsp\; </span>Enjoy backyard activities such as baggo or make s&rsquo\;mores around the fire.<span style="mso-spacerun: yes\;">&nbsp\; </span>Concessions will be open to purchase food and drinks.<span style="mso-spacerun: yes\;">&nbsp\; </span>Pre register or register day of at The Hub.</font></p>\n
LOCATION:The Hub at Berens Park
UID:e.333.5296
SEQUENCE:3
DTSTAMP:20260422T163114Z
URL:https://chambermaster.elmhurstchamber.org/events/details/hub-after-hours-06-29-2013-5296
END:VEVENT

END:VCALENDAR
