BEGIN:VCALENDAR
VERSION:2.0
PRODID:-//ChamberMaster//Event Calendar 2.0//EN
METHOD:PUBLISH
X-PUBLISHED-TTL:P3D
REFRESH-INTERVAL:P3D
CALSCALE:GREGORIAN
BEGIN:VEVENT
DTSTART:20111004T003000Z
DTEND:20111004T013000Z
X-MICROSOFT-CDO-ALLDAYEVENT:FALSE
SUMMARY:Huntington Learning Center Homework Presentation
DESCRIPTION:A practical workshop offering parents the advice they need to tackle common homework problems.\n\n\n\nHOMEWORK: A Parent's Survival Guide\,  is a workshop program exclusively for today's busy parent\, and is designed to empower parents to help their struggling child do better in school. During the workshop\, we show parents ways to structure their children's time and environment to improve homework performance.
X-ALT-DESC;FMTTYPE=text/html:A practical workshop offering parents the advice they need to tackle common homework problems.<br />\n<br />\n<strong><u>HOMEWORK: A Parent&#39\;s Survival Guide</u>\, </strong> is a workshop program exclusively for today&#39\;s busy parent\, and is designed to empower parents to help their struggling child do better in school. During the workshop\, we show parents ways to structure their children&#39\;s time and environment to improve homework performance.
LOCATION:Huntington Learning Center of Elmhurst 179 S. Route 83 at St. Charles Rd. Elmhurst\, 60126
UID:e.333.4513
SEQUENCE:3
DTSTAMP:20260425T132209Z
URL:https://chambermaster.elmhurstchamber.org/events/details/huntington-learning-center-homework-presentation-10-03-2011-4513
END:VEVENT

END:VCALENDAR
