BEGIN:VCALENDAR
VERSION:2.0
PRODID:-//ChamberMaster//Event Calendar 2.0//EN
METHOD:PUBLISH
X-PUBLISHED-TTL:P3D
REFRESH-INTERVAL:P3D
CALSCALE:GREGORIAN
BEGIN:VEVENT
DTSTART;VALUE=DATE:20130315
DTEND;VALUE=DATE:20130317
TRANSP:TRANSPARENT
X-MICROSOFT-CDO-ALLDAYEVENT:TRUE
SUMMARY:IAOMT Spring Instructional meeting
DESCRIPTION:This conference is for dentists & their staff that want to learn about the dangers of mercury & fluoride for their patients & themselves. Instructional classes will count towards CME.
X-ALT-DESC;FMTTYPE=text/html:This conference is for dentists &amp\; their staff that want to learn about the dangers of mercury &amp\; fluoride for their patients &amp\; themselves. Instructional classes will count towards CME.
LOCATION:Wild Dunes Resort Charleston\, SC see www.iaomt.org for details
UID:e.333.5187
SEQUENCE:3
DTSTAMP:20260424T084908Z
URL:https://chambermaster.elmhurstchamber.org/events/details/iaomt-spring-instructional-meeting-03-15-2013-5187
END:VEVENT

END:VCALENDAR
