BEGIN:VCALENDAR
VERSION:2.0
PRODID:-//ChamberMaster//Event Calendar 2.0//EN
METHOD:PUBLISH
X-PUBLISHED-TTL:P3D
REFRESH-INTERVAL:P3D
CALSCALE:GREGORIAN
BEGIN:VEVENT
DTSTART;VALUE=DATE:20110912
DTEND;VALUE=DATE:20110917
TRANSP:TRANSPARENT
X-MICROSOFT-CDO-ALLDAYEVENT:TRUE
SUMMARY:Illinois Chamber of Commerce Week
DESCRIPTION:Governor's 2011 Proclamation\n\n	Whereas\, chambers of commerce work with Illinois businesses\, merchants\, and industry to advance the civic\, economic\, industrial\, professional\, and cultural life of our state\; and\n\n	Whereas\, chambers of commerce have contributed to the civic and economic life of Illinois for 172 years\, since the Galena Chamber of Commerce was founded in 1838\; and\n\n	Whereas\, this year marks the 91st anniversary of the founding of the Illinois Chamber of Commerce\, the state's leading broad-based business organization which serves as the unified voice for business\; and \n\n	Whereas\, chambers of commerce encourage the growth of existing industries\, services\, and commercial firms and encourage new businesses and individuals to locate in Illinois\, acting as a liaison with the State of Illinois\, local governments\, schools and the business community\; and \n\n	Whereas\, this year marks the 95th anniversary of the Illinois Association of Chamber of Commerce Executives (IACCE)\, a career development organization for chamber of commerce professionals\; and\n\n	Whereas\, Illinois is the home to international chambers of commerce\, the Great Lakes Regional Office of the United States Chamber of Commerce\, the Illinois Chamber of Commerce and more than 400 local chambers of commerce:\n\n	Therefore\, I\, Governor Quinn of the State of Illinois\, proclaim September 12 -16\, 2011 as Chamber of Commerce Week in Illinois.
X-ALT-DESC;FMTTYPE=text/html:<p style="margin-bottom: 0pt">\n	<a href="http://iacce.org/storage/2011%20gubernatorial%20proclamation.pdf"><strong><span style="text-decoration: underline">Governor&#39\;s 2011</span></strong><span style="text-decoration: underline"><strong> Proclamation</strong></span></a></p>\n<p style="margin-top: 0pt">\n	<em>Whereas\, chambers of commerce work with Illinois businesses\, merchants\, and industry to advance the civic\, economic\, industrial\, professional\, and cultural life of our state\; and</em></p>\n<p>\n	<em>Whereas\, chambers of commerce have contributed to the civic and economic life of Illinois for 172 years\, since the Galena Chamber of Commerce was founded in 1838\; and</em></p>\n<p>\n	<em>Whereas\, this year marks the 91st anniversary of the founding of the Illinois Chamber of Commerce\, the state&#39\;s leading broad-based business organization which serves as the unified voice for business\; and </em></p>\n<p>\n	<em>Whereas\, chambers of commerce encourage the growth of existing industries\, services\, and commercial firms and encourage new businesses and individuals to locate in Illinois\, acting as a liaison with the State of Illinois\, local governments\, schools and the business community\; and </em></p>\n<p>\n	<em>Whereas\, this year marks the 95th anniversary of the Illinois Association of Chamber of Commerce Executives (IACCE)\, a career development organization for chamber of commerce professionals\; and</em></p>\n<p>\n	<em>Whereas\, Illinois is the home to international chambers of commerce\, the Great Lakes Regional Office of the United States Chamber of Commerce\, the Illinois Chamber of Commerce and more than 400 local chambers of commerce:</em></p>\n<p>\n	<em>Therefore\, I\, Governor Quinn of the State of Illinois\, proclaim September 12 -16\, 2011 as <strong>Chamber of Commerce Week</strong> in Illinois.</em></p>\n
LOCATION:
UID:e.333.4235
SEQUENCE:3
DTSTAMP:20260425T132406Z
URL:https://chambermaster.elmhurstchamber.org/events/details/illinois-chamber-of-commerce-week-09-12-2011-4235
END:VEVENT

END:VCALENDAR
