BEGIN:VCALENDAR
VERSION:2.0
PRODID:-//ChamberMaster//Event Calendar 2.0//EN
METHOD:PUBLISH
X-PUBLISHED-TTL:P3D
REFRESH-INTERVAL:P3D
CALSCALE:GREGORIAN
BEGIN:VEVENT
DTSTART:20130131T140000Z
DTEND:20130201T020000Z
X-MICROSOFT-CDO-ALLDAYEVENT:FALSE
SUMMARY:Immanuel Lutheran School Open House
DESCRIPTION:Immanuel Lutheran School\, 148 E. Third Street\, Elmhurst\, hosts and Open House for all families looking for a high-quality Christian Education for their children.  The Open House on Thursday\, January 31\, from 8 AM- 8 PM\, will give families an opportunity to visit our facility\, meet our staff\, and learn more about our programs.  ILS offers full and part-time preschool\, full-day kindergarten with a half-day option\, and 1-8 grades with state-certified teachers.  Extended care is available at all grade levels.  All classrooms have interactive whiteboards and Spanish is taught at all grade levels.  Can't make the Open House?  Call the school office\, 630-832-9302\, or visit www.ilselmhurst.org to schedule your tour today!
X-ALT-DESC;FMTTYPE=text/html:Immanuel Lutheran School\, 148 E. Third Street\, Elmhurst\, hosts and Open House for all families looking for a high-quality Christian Education for their children.&nbsp\; The Open House on Thursday\, January 31\, from 8 AM- 8 PM\, will give families an opportunity to visit our facility\, meet our staff\, and learn more about our programs.&nbsp\; ILS offers full and part-time preschool\, full-day kindergarten with a half-day option\, and 1-8 grades with state-certified teachers.&nbsp\; Extended care is available at all grade levels.&nbsp\; All classrooms have interactive whiteboards and Spanish is taught at all grade levels.&nbsp\; Can&#39\;t make the Open House?&nbsp\; Call the school office\, 630-832-9302\, or visit <a href="http://www.ilselmhurst.org">www.ilselmhurst.org</a> to schedule your tour today!
LOCATION:148 E. Third Street\, Elmhurst\, IL
UID:e.333.5168
SEQUENCE:3
DTSTAMP:20260424T114251Z
URL:https://chambermaster.elmhurstchamber.org/events/details/immanuel-lutheran-school-open-house-01-31-2013-5168
END:VEVENT

END:VCALENDAR
