BEGIN:VCALENDAR
VERSION:2.0
PRODID:-//ChamberMaster//Event Calendar 2.0//EN
METHOD:PUBLISH
X-PUBLISHED-TTL:P3D
REFRESH-INTERVAL:P3D
CALSCALE:GREGORIAN
BEGIN:VEVENT
DTSTART:20130323T133000Z
DTEND:20130323T160000Z
X-MICROSOFT-CDO-ALLDAYEVENT:FALSE
SUMMARY:Immanuel Pancake Breakfast and Egg Hunt
DESCRIPTION:Come to Immanuel for a pancake breakfast\, followed by a 10:00 Easter Egg Hunt.  School tours will be available after the Easter Egg hunt until 11:00 AM.
X-ALT-DESC;FMTTYPE=text/html:Come to Immanuel for a pancake breakfast\, followed by a 10:00 Easter Egg Hunt.&nbsp\; School tours will be available after the Easter Egg hunt until 11:00 AM.
LOCATION:148 E. Third Street Elmhurst
UID:e.333.5229
SEQUENCE:3
DTSTAMP:20260424T084810Z
URL:https://chambermaster.elmhurstchamber.org/events/details/immanuel-pancake-breakfast-and-egg-hunt-03-23-2013-5229
END:VEVENT

END:VCALENDAR
