BEGIN:VCALENDAR
VERSION:2.0
PRODID:-//ChamberMaster//Event Calendar 2.0//EN
METHOD:PUBLISH
X-PUBLISHED-TTL:P3D
REFRESH-INTERVAL:P3D
CALSCALE:GREGORIAN
BEGIN:VEVENT
DTSTART:20130323T133000Z
DTEND:20130323T160000Z
X-MICROSOFT-CDO-ALLDAYEVENT:FALSE
SUMMARY:Immanuel Pancake Breakfast & Easter Egg Hunt
DESCRIPTION:IMMANUEL'S  PANCAKE BREAKFAST AND EASTER EGG HUNT is on Saturday\, March 23rd.  Everyone is welcome - invite your neighbors and friends!  The pancake breakfast in the parish hall (prepared by Immanuel's dart teams!) and is served 8:30   9:45 a.m. A freewill donation will be taken. The Easter egg hunt is in the gym (Preschool - Kindergarten) and Preschool Classroom (Grades 1-3)\, beginning at 10:00 a.m. (we start with a short Easter story and drawing for free Easter baskets at 10:00 a.m. in the parish hall).  There will be tours of Immanuel Lutheran School after the egg hunt for those who are interested. To help with our planning\, please call the church office with reservations for the pancake breakfast by March 17th at 630-832-1649.
X-ALT-DESC;FMTTYPE=text/html:<span style="font-family: arial\, sans-serif\; font-size: 13px\;">IMMANUEL&#39\;S &nbsp\;PANCAKE BREAKFAST AND EASTER EGG HUNT is on Saturday\, March 23rd. &nbsp\;Everyone is welcome - invite your neighbors and friends! &nbsp\;The pancake breakfast in the parish hall (prepared by Immanuel&rsquo\;s dart teams!) and is served 8:30 &ndash\; 9:45 a.m. A freewill donation will be taken. The Easter egg hunt is in the gym (Preschool - Kindergarten) and Preschool Classroom (Grades 1-3)\, beginning at 10:00 a.m. (we start with a short Easter story and drawing for free Easter baskets at 10:00 a.m. in the parish hall). &nbsp\;There will be tours of Immanuel Lutheran School after the egg hunt for those who are interested. To help with our planning\, please call the church office with reservations for the pancake breakfast by March 17th at 630-832-1649.</span>
LOCATION:Immanuel Lutheran Church
UID:e.333.5240
SEQUENCE:3
DTSTAMP:20260424T084530Z
URL:https://chambermaster.elmhurstchamber.org/events/details/immanuel-pancake-breakfast-easter-egg-hunt-03-23-2013-5240
END:VEVENT

END:VCALENDAR
