BEGIN:VCALENDAR
VERSION:2.0
PRODID:-//ChamberMaster//Event Calendar 2.0//EN
METHOD:PUBLISH
X-PUBLISHED-TTL:P3D
REFRESH-INTERVAL:P3D
CALSCALE:GREGORIAN
BEGIN:VEVENT
DTSTART:20110406T000000Z
DTEND:20110406T013000Z
X-MICROSOFT-CDO-ALLDAYEVENT:FALSE
SUMMARY:Investing and Business Research Tools Workshop
DESCRIPTION:Key investment\, consumer and business information is available to you anywhere and anytime through the Library website using your library card. At this workshop we will show you which resources will help you with your money\, company\, and product related questions. Featured online sources will include Morningstar (for mutual funds)\, Consumer Reports\, Business & Company Resource Center\, Brands & Their Companies\, Value Line\, full-text magazine and newspaper articles\, and others.
X-ALT-DESC;FMTTYPE=text/html:<br />\nKey investment\, consumer and business information is available to you anywhere and anytime through the Library website using your library card. At this workshop we will show you which resources will help you with your money\, company\, and product related questions. Featured online sources will include Morningstar (for mutual funds)\, Consumer Reports\, Business &amp\; Company Resource Center\, Brands &amp\; Their Companies\, Value Line\, full-text magazine and newspaper articles\, and others. 
LOCATION:Elmhurst Public Library Kossman Room
UID:e.333.4144
SEQUENCE:3
DTSTAMP:20260425T204823Z
URL:https://chambermaster.elmhurstchamber.org/events/details/investing-and-business-research-tools-workshop-04-05-2011-4144
END:VEVENT

END:VCALENDAR
