BEGIN:VCALENDAR
VERSION:2.0
PRODID:-//ChamberMaster//Event Calendar 2.0//EN
METHOD:PUBLISH
X-PUBLISHED-TTL:P3D
REFRESH-INTERVAL:P3D
CALSCALE:GREGORIAN
BEGIN:VEVENT
DTSTART:20130809T170000Z
DTEND:20130809T170000Z
X-MICROSOFT-CDO-ALLDAYEVENT:FALSE
SUMMARY:Investment Perspective Seminar
DESCRIPTION:You're Invited...\n\n\n\nWith so much market and economic uncertainty\, it can be difficult to stay focused on your long-term goals.\n\n\n\nJoin us for our free seminar Investment Perspective. We'll discuss timely market topics and potential solutions to help you stay on track toward your financial goals.\n\n\n\nSeating is limited\, so contact me today to reserve space for yourself and a guest at this free educational seminar. Location is to be determined\, but lunch will be served.
X-ALT-DESC;FMTTYPE=text/html:<span style="color: rgb(0\, 128\, 0)\;"><em><span style="font-size: 14px\;"><strong>You&#39\;re Invited...</strong></span></em></span><br />\n<br />\nWith so much market and economic uncertainty\, it can be difficult to stay focused on your long-term goals.<br />\n<br />\nJoin us for our free seminar Investment Perspective. We&#39\;ll discuss timely market topics and potential solutions to help you stay on track toward your financial goals.<br />\n<br />\nSeating is limited\, so contact me today to reserve space for yourself and a guest at this free educational seminar. Location is to be determined\, but lunch will be served.<br />\n
LOCATION:To be determined
UID:e.333.5151
SEQUENCE:3
DTSTAMP:20260422T150119Z
URL:https://chambermaster.elmhurstchamber.org/events/details/investment-perspective-seminar-08-09-2013-5151
END:VEVENT

END:VCALENDAR
